BEGIN:VCALENDAR
VERSION:2.0
PRODID:-//www.thearcfamilyinstitute.org//NONSGML kigkonsult.se iCalcreator 
 2.30.10//
CALSCALE:GREGORIAN
METHOD:PUBLISH
UID:d5bd7677-9894-4656-8cd5-c841ea106195
X-WR-CALDESC:
X-WR-RELCALID:8e7bcad557adf4b1f2b3a2b8cee63215
X-WR-TIMEZONE:America/New_York
BEGIN:VTIMEZONE
TZID:America/New_York
BEGIN:STANDARD
TZNAME:EST
DTSTART:20171105T020000
TZOFFSETFROM:-0400
TZOFFSETTO:-0500
RDATE:20181104T020000
END:STANDARD
BEGIN:DAYLIGHT
TZNAME:EDT
DTSTART:20180311T020000
TZOFFSETFROM:-0500
TZOFFSETTO:-0400
RDATE:20190310T020000
END:DAYLIGHT
END:VTIMEZONE
BEGIN:VEVENT
UID:af41c6f4-5e48-4a1e-8b6c-222f0afdf033
DTSTAMP:20260423T191746Z
DESCRIPTION:
DTSTART;TZID=America/New_York:20180324T083000
DTEND;TZID=America/New_York:20180324T130000
LOCATION:Carman Tilelli Community Center\, 820 Mercer Street\, Cherry Hill\
 , 08002
SUMMARY:Camden County: Special Needs Conference
END:VEVENT
END:VCALENDAR
