BEGIN:VCALENDAR
VERSION:2.0
PRODID:-//www.thearcfamilyinstitute.org//NONSGML kigkonsult.se iCalcreator 
 2.30.10//
CALSCALE:GREGORIAN
METHOD:PUBLISH
UID:94c35a03-70d1-4097-841d-05621a97f941
X-WR-CALDESC:The Facing the Future conference committee invites workshop pr
 oposals on the following topics for the March 23\, 2018 conference. This a
 nnual one-day conference features 27 workshops designed to educate profess
 ionals in career planning\, customized employment\, and transition from sc
 hool to work. Workshops are 75 minutes in length.\n\nWorkshops should be i
 nteractive and address the following topics:\nJob Development\nJob Coachin
 g\nPerson-Centered Employment\nSupport strategies (e.g.\, instructional st
 rategies\, positive behavioral supports\, natural supports)\nTransition fr
 om School to Work (e.g.\, best practices\, model transition programs\, par
 tnerships\, etc.)\nMental health and dual diagnosis (mental health and int
 ellectual or developmental disability)\nState services (DDD and DVRS)\nPol
 icy Issues (e.g.\, effective advocacy\, current policy issues\, etc.)\nSup
 port for specific populations (e.g.\, autism\, significant disabilities)\n
 Transportation\nEmployer perspectives\n\nAudience: Supported Employment pr
 ofessionals\, including supervisors\, administrators\, employment speciali
 sts\, job developers\, representatives from state agencies\, teachers\, an
 d transition coordinators are the primary audience for the conference. Peo
 ple with disabilities and family members may also attend.
X-WR-RELCALID:555f120cb729fb7dc313234eab7c884d
X-WR-TIMEZONE:America/New_York
BEGIN:VTIMEZONE
TZID:America/New_York
BEGIN:STANDARD
TZNAME:EST
DTSTART:20171105T020000
TZOFFSETFROM:-0400
TZOFFSETTO:-0500
RDATE:20181104T020000
END:STANDARD
BEGIN:DAYLIGHT
TZNAME:EDT
DTSTART:20180311T020000
TZOFFSETFROM:-0500
TZOFFSETTO:-0400
RDATE:20190310T020000
END:DAYLIGHT
END:VTIMEZONE
BEGIN:VEVENT
UID:38bcceac-769c-4029-85d5-7453fb2b9e0b
DTSTAMP:20260423T191737Z
DESCRIPTION:The Facing the Future conference committee invites workshop pro
 posals on the following topics for the March 23\, 2018 conference. This an
 nual one-day conference features 27 workshops designed to educate professi
 onals in career planning\, customized employment\, and transition from sch
 ool to work. Workshops are 75 minutes in length.\n\nWorkshops should be in
 teractive and address the following topics:\nJob Development\nJob Coaching
 \nPerson-Centered Employment\nSupport strategies (e.g.\, instructional str
 ategies\, positive behavioral supports\, natural supports)\nTransition fro
 m School to Work (e.g.\, best practices\, model transition programs\, part
 nerships\, etc.)\nMental health and dual diagnosis (mental health and inte
 llectual or developmental disability)\nState services (DDD and DVRS)\nPoli
 cy Issues (e.g.\, effective advocacy\, current policy issues\, etc.)\nSupp
 ort for specific populations (e.g.\, autism\, significant disabilities)\nT
 ransportation\nEmployer perspectives\n\nAudience: Supported Employment pro
 fessionals\, including supervisors\, administrators\, employment specialis
 ts\, job developers\, representatives from state agencies\, teachers\, and
  transition coordinators are the primary audience for the conference. Peop
 le with disabilities and family members may also attend.
DTSTART;TZID=America/New_York:20180323T090000
DTEND;TZID=America/New_York:20180323T130000
LOCATION:Hyatt Regency\, New Brunswick\, NJ
SUMMARY:Facing the Future 26
END:VEVENT
END:VCALENDAR
