BEGIN:VCALENDAR
VERSION:2.0
PRODID:-//www.thearcfamilyinstitute.org//NONSGML kigkonsult.se iCalcreator 
 2.30.10//
CALSCALE:GREGORIAN
METHOD:PUBLISH
UID:6260b688-9fbc-4c6d-b992-a41dd140c884
X-WR-CALDESC:
X-WR-RELCALID:5323742375c9de22068d3c2d701fd200
X-WR-TIMEZONE:America/New_York
BEGIN:VTIMEZONE
TZID:America/New_York
BEGIN:STANDARD
TZNAME:EST
DTSTART:20171105T020000
TZOFFSETFROM:-0400
TZOFFSETTO:-0500
RDATE:20181104T020000
END:STANDARD
BEGIN:DAYLIGHT
TZNAME:EDT
DTSTART:20180311T020000
TZOFFSETFROM:-0500
TZOFFSETTO:-0400
RDATE:20190310T020000
END:DAYLIGHT
END:VTIMEZONE
BEGIN:VEVENT
UID:b038b796-ca63-4547-831e-61efc8068ad1
DTSTAMP:20260423T192256Z
DESCRIPTION:
DTSTART;TZID=America/New_York:20180322T180000
DTEND;TZID=America/New_York:20180322T210000
LOCATION:The Arc Center 17 Wallace Street\, Elmwood Park NJ\, 07407
SUMMARY:IEP Review- The Arc of Bergen and Passaic
END:VEVENT
END:VCALENDAR
