BEGIN:VCALENDAR
VERSION:2.0
PRODID:-//www.thearcfamilyinstitute.org//NONSGML kigkonsult.se iCalcreator 
 2.30.10//
CALSCALE:GREGORIAN
METHOD:PUBLISH
UID:8e09d3ac-8277-49cd-886b-dfce992ea442
X-WR-CALDESC:
X-WR-RELCALID:177c657eb1befcacf7bbe1f65f05a391
X-WR-TIMEZONE:America/New_York
BEGIN:VTIMEZONE
TZID:America/New_York
BEGIN:STANDARD
TZNAME:EST
DTSTART:20171105T020000
TZOFFSETFROM:-0400
TZOFFSETTO:-0500
RDATE:20181104T020000
END:STANDARD
BEGIN:DAYLIGHT
TZNAME:EDT
DTSTART:20180311T020000
TZOFFSETFROM:-0500
TZOFFSETTO:-0400
RDATE:20190310T020000
END:DAYLIGHT
END:VTIMEZONE
BEGIN:VEVENT
UID:031659ee-0f93-4fed-8848-f6aafb5b05d8
DTSTAMP:20260423T191955Z
DESCRIPTION:
DTSTART;TZID=America/New_York:20180322T173000
DTEND;TZID=America/New_York:20180322T193000
LOCATION:BCSSSD Westampton Campus\, 20 Pioneer Blvd.\, Westampton\, NJ 0806
 0
SUMMARY:Burlington County Special Services School District Open House & Res
 ource Fair
END:VEVENT
END:VCALENDAR
