BEGIN:VCALENDAR
VERSION:2.0
PRODID:-//www.thearcfamilyinstitute.org//NONSGML kigkonsult.se iCalcreator 
 2.30.10//
CALSCALE:GREGORIAN
METHOD:PUBLISH
UID:d4b729f0-7055-454d-839c-9ce0dffdd2a9
X-WR-CALDESC:Join The Arc of New Jersey's Planning for Adult Life Program f
 or free monthly webinars on topics important to your child's transition to
  adult life.
X-WR-RELCALID:58d2e90e9e1551d9dcf18d284b282230
X-WR-TIMEZONE:America/New_York
BEGIN:VTIMEZONE
TZID:America/New_York
BEGIN:STANDARD
TZNAME:EST
DTSTART:20171105T020000
TZOFFSETFROM:-0400
TZOFFSETTO:-0500
RDATE:20181104T020000
END:STANDARD
BEGIN:DAYLIGHT
TZNAME:EDT
DTSTART:20180311T020000
TZOFFSETFROM:-0500
TZOFFSETTO:-0400
RDATE:20190310T020000
END:DAYLIGHT
END:VTIMEZONE
BEGIN:VEVENT
UID:572fe3e1-f449-4440-a913-617f451a0d6f
DTSTAMP:20260423T192138Z
DESCRIPTION:Join The Arc of New Jersey's Planning for Adult Life Program fo
 r free monthly webinars on topics important to your child's transition to 
 adult life.
DTSTART;TZID=America/New_York:20180321T180000
DTEND;TZID=America/New_York:20180321T190000
LOCATION:
SUMMARY:Free Webinar: Planning for Adult Life Webinar Wednesdays
END:VEVENT
END:VCALENDAR
