BEGIN:VCALENDAR
VERSION:2.0
PRODID:-//www.thearcfamilyinstitute.org//NONSGML kigkonsult.se iCalcreator 
 2.30.10//
CALSCALE:GREGORIAN
METHOD:PUBLISH
UID:78ad9e71-aeca-4056-9b90-26313a15dfaa
X-WR-CALDESC:Presented by Hinkle\, Fingles\, Prior & Fischer\, P.C. at the 
 SCARC Hampton Community Center\n\nAttendees will learn about government pr
 ograms for adults with disabilities that begin at age 18\, including Suppl
 emental Security Income (SSI)\, Social Security Disability Income (SSDI)\,
  and Medicaid. The attorney will also discuss securing services after age 
 21 when the entitlement to special education ends\, including day and resi
 dential services available through the Division of Developmental Disabilit
 ies (DDD)\, and programs offered through the Division of Vocational Rehabi
 litation Services (DVRS). The attorney will present emerging information o
 n New Jersey’s ever-changing system of adult services\, including “fee-for
 -service” and the growing role of Medicaid eligibility and waivers.\n\nLig
 ht snacks will be served. Child care is available by request only. Please 
 RSVP by March 16\, 2018
X-WR-RELCALID:e7972a7ca315e6bf4cbf2ab7cadd6e87
X-WR-TIMEZONE:America/New_York
BEGIN:VTIMEZONE
TZID:America/New_York
BEGIN:STANDARD
TZNAME:EST
DTSTART:20171105T020000
TZOFFSETFROM:-0400
TZOFFSETTO:-0500
RDATE:20181104T020000
END:STANDARD
BEGIN:DAYLIGHT
TZNAME:EDT
DTSTART:20180311T020000
TZOFFSETFROM:-0500
TZOFFSETTO:-0400
RDATE:20190310T020000
END:DAYLIGHT
END:VTIMEZONE
BEGIN:VEVENT
UID:39f3b19c-cbeb-4765-8462-9b3f87746abc
DTSTAMP:20260423T192126Z
DESCRIPTION:Presented by Hinkle\, Fingles\, Prior & Fischer\, P.C. at the S
 CARC Hampton Community Center\n\nAttendees will learn about government pro
 grams for adults with disabilities that begin at age 18\, including Supple
 mental Security Income (SSI)\, Social Security Disability Income (SSDI)\, 
 and Medicaid. The attorney will also discuss securing services after age 2
 1 when the entitlement to special education ends\, including day and resid
 ential services available through the Division of Developmental Disabiliti
 es (DDD)\, and programs offered through the Division of Vocational Rehabil
 itation Services (DVRS). The attorney will present emerging information on
  New Jersey’s ever-changing system of adult services\, including “fee-for-
 service” and the growing role of Medicaid eligibility and waivers.\n\nLigh
 t snacks will be served. Child care is available by request only. Please R
 SVP by March 16\, 2018
DTSTART;TZID=America/New_York:20180320T183000
DTEND;TZID=America/New_York:20180320T200000
LOCATION:SCARC Community Center 4 Camre Drive  Newton\, 07860
SUMMARY:The Arc of Sussex (SCARC):
END:VEVENT
END:VCALENDAR
