BEGIN:VCALENDAR
VERSION:2.0
PRODID:-//www.thearcfamilyinstitute.org//NONSGML kigkonsult.se iCalcreator 
 2.30.10//
CALSCALE:GREGORIAN
METHOD:PUBLISH
UID:03dac8dd-5933-4cad-a267-0e79dbba89b6
X-WR-CALDESC:Registration Deadline: March 13\n\nThe New Jersey Division of 
 Vocational Rehabilitation (DVRS) and its State Rehabilitation Council (SRC
 ) will be conducting public forums during the month of March. DVRS is a di
 vision within the Department of Labor and Workforce Development and provid
 es services to eligible individuals with disabilities to achieve  employme
 nt outcomes consistent with their strengths\, priorities\, needs\, abiliti
 es and capabilities. The SRC provides oversight and advises the DVRS. The 
 SRC is comprised of partnerships of people with disabilities\, advocates a
 nd other interested persons\, and it is committed to ensuring through poli
 cy development\, implementation and advocacy that New Jersey has a rehabil
 itation program that is not only comprehensive and consumer-responsive but
  also effective\, efficient and adequately funded. Your input during these
  forum(s) helps DVRS and SRC develop the State Plan as mandated by the WIO
 A\, and to review topical issues impacting consumers\, vendor communicatio
 ns and dialogue with employers. Your voice is extremely important to both 
 DVRS and SRC and will help to mold program delivery and policy to ensure t
 hat people with disabilities receive rehabilitation services that result i
 n employment.\n\nRepresentatives from DVRS and the SRC will be available t
 o provide information on available services\, and various work incentive i
 nitiatives.\n\nTopics: Youth Transition Services (Pre-ETS)\, Business Outr
 each\, Project Search\n\nWritten comments: 1) Can be included with the reg
 istrant’s electronic registration or 2) A hard copy provided to the DVRS/S
 RC representative or 3) Faxed to the attention of S. Walker-Hunt at 609 29
 2.8347 indicating the DVRS/SRC public forum date and location. \n\nAccommo
 dation: Request for accommodations must be done by registration deadline\n
 \nOnline Registration: You can register on the Department of Labor and Wor
 kforce Development’s website (public forum section). Website link is below
 .
X-WR-RELCALID:2f788844a7ab8588d4610704d3e7a2db
X-WR-TIMEZONE:America/New_York
BEGIN:VTIMEZONE
TZID:America/New_York
BEGIN:STANDARD
TZNAME:EST
DTSTART:20171105T020000
TZOFFSETFROM:-0400
TZOFFSETTO:-0500
RDATE:20181104T020000
END:STANDARD
BEGIN:DAYLIGHT
TZNAME:EDT
DTSTART:20180311T020000
TZOFFSETFROM:-0500
TZOFFSETTO:-0400
RDATE:20190310T020000
END:DAYLIGHT
END:VTIMEZONE
BEGIN:VEVENT
UID:78561ea2-bc30-45fe-8485-abb05c60cec0
DTSTAMP:20260423T192504Z
DESCRIPTION:Registration Deadline: March 13\n\nThe New Jersey Division of V
 ocational Rehabilitation (DVRS) and its State Rehabilitation Council (SRC)
  will be conducting public forums during the month of March. DVRS is a div
 ision within the Department of Labor and Workforce Development and provide
 s services to eligible individuals with disabilities to achieve  employmen
 t outcomes consistent with their strengths\, priorities\, needs\, abilitie
 s and capabilities. The SRC provides oversight and advises the DVRS. The S
 RC is comprised of partnerships of people with disabilities\, advocates an
 d other interested persons\, and it is committed to ensuring through polic
 y development\, implementation and advocacy that New Jersey has a rehabili
 tation program that is not only comprehensive and consumer-responsive but 
 also effective\, efficient and adequately funded. Your input during these 
 forum(s) helps DVRS and SRC develop the State Plan as mandated by the WIOA
 \, and to review topical issues impacting consumers\, vendor communication
 s and dialogue with employers. Your voice is extremely important to both D
 VRS and SRC and will help to mold program delivery and policy to ensure th
 at people with disabilities receive rehabilitation services that result in
  employment.\n\nRepresentatives from DVRS and the SRC will be available to
  provide information on available services\, and various work incentive in
 itiatives.\n\nTopics: Youth Transition Services (Pre-ETS)\, Business Outre
 ach\, Project Search\n\nWritten comments: 1) Can be included with the regi
 strant’s electronic registration or 2) A hard copy provided to the DVRS/SR
 C representative or 3) Faxed to the attention of S. Walker-Hunt at 609 292
 .8347 indicating the DVRS/SRC public forum date and location. \n\nAccommod
 ation: Request for accommodations must be done by registration deadline\n
 \nOnline Registration: You can register on the Department of Labor and Wor
 kforce Development’s website (public forum section). Website link is below
 .
DTSTART;TZID=America/New_York:20180320T130000
DTEND;TZID=America/New_York:20180320T150000
LOCATION:Camden County 1-Stop 2600 Mt. Ephraim Ave – Suite 103 (Auditorium)
  Camden\, NJ 08104
SUMMARY:New Jersey Division of Vocational Rehabilitation 2018 Public Forum 
 (Camden County)
END:VEVENT
END:VCALENDAR
