BEGIN:VCALENDAR
VERSION:2.0
PRODID:-//www.thearcfamilyinstitute.org//NONSGML kigkonsult.se iCalcreator 
 2.30.10//
CALSCALE:GREGORIAN
METHOD:PUBLISH
UID:c47b6fe1-7563-4404-9452-6d79f511367f
X-WR-CALDESC:
X-WR-RELCALID:0bc69aa79f01b78710a7826423da15fe
X-WR-TIMEZONE:America/New_York
BEGIN:VTIMEZONE
TZID:America/New_York
BEGIN:STANDARD
TZNAME:EST
DTSTART:20171105T020000
TZOFFSETFROM:-0400
TZOFFSETTO:-0500
RDATE:20181104T020000
END:STANDARD
BEGIN:DAYLIGHT
TZNAME:EDT
DTSTART:20180311T020000
TZOFFSETFROM:-0500
TZOFFSETTO:-0400
RDATE:20190310T020000
END:DAYLIGHT
END:VTIMEZONE
BEGIN:VEVENT
UID:33deabfc-f89f-4982-9dfa-7998f8380ad8
DTSTAMP:20260423T192131Z
DESCRIPTION:
DTSTART;TZID=America/New_York:20180313T190000
DTEND;TZID=America/New_York:20180313T203000
LOCATION:BCSS Education Center\, Second Floor Traning Room\, 540 Farview Av
 e.\, Paramus\, NJ 0765
SUMMARY:Planning a Journey Through the Teen Years(Bergen County)
END:VEVENT
END:VCALENDAR
