BEGIN:VCALENDAR
VERSION:2.0
PRODID:-//www.thearcfamilyinstitute.org//NONSGML kigkonsult.se iCalcreator 
 2.30.10//
CALSCALE:GREGORIAN
METHOD:PUBLISH
UID:c5e511a9-33d5-46ef-bbd1-9866e0165435
X-WR-CALDESC:The New Jersey Division of Vocational Rehabilitation (DVRS) an
 d its State Rehabilitation Council (SRC) will be conducting public forums 
 during the month of March. DVRS is a division within the Department of Lab
 or and Workforce Development and provides services to eligible individuals
  with disabilities to achieve  employment outcomes consistent with their s
 trengths\, priorities\, needs\, abilities and capabilities. The SRC provid
 es oversight and advises the DVRS. The SRC is comprised of partnerships of
  people with disabilities\, advocates and other interested persons\, and i
 t is committed to ensuring through policy development\, implementation and
  advocacy that New Jersey has a rehabilitation program that is not only co
 mprehensive and consumer-responsive but also effective\, efficient and ade
 quately funded. Your input during these forum(s) helps DVRS and SRC develo
 p the State Plan as mandated by the WIOA\, and to review topical issues im
 pacting consumers\, vendor communications and dialogue with employers. You
 r voice is extremely important to both DVRS and SRC and will help to mold 
 program delivery and policy to ensure that people with disabilities receiv
 e rehabilitation services that result in employment.\n\nRepresentatives fr
 om DVRS and the SRC will be available to provide information on available 
 services\, and various work incentive initiatives.\n\nTopics: Youth Transi
 tion Services (Pre-ETS)\, Business Outreach\, Project Search\n\nWritten co
 mments: 1) Can be included with the registrant’s electronic registration o
 r 2) A hard copy provided to the DVRS/SRC representative or 3) Faxed to th
 e attention of S. Walker-Hunt at 609 292.8347 indicating the DVRS/SRC publ
 ic forum date and location. \n\nAccommodation: Request for accommodations 
 must be done by registration deadline\n\nOnline Registration: You can regi
 ster on the Department of Labor and Workforce Development’s website (publi
 c forum section). Website link is below.
X-WR-RELCALID:c2d449e62c5efda986056dba51022913
X-WR-TIMEZONE:America/New_York
BEGIN:VTIMEZONE
TZID:America/New_York
BEGIN:STANDARD
TZNAME:EST
DTSTART:20171105T020000
TZOFFSETFROM:-0400
TZOFFSETTO:-0500
RDATE:20181104T020000
END:STANDARD
BEGIN:DAYLIGHT
TZNAME:EDT
DTSTART:20170312T020000
TZOFFSETFROM:-0500
TZOFFSETTO:-0400
RDATE:20180311T020000
RDATE:20190310T020000
END:DAYLIGHT
END:VTIMEZONE
BEGIN:VEVENT
UID:8a456fb1-c966-4dac-8a51-0b2729c4b92e
DTSTAMP:20260423T192519Z
DESCRIPTION:The New Jersey Division of Vocational Rehabilitation (DVRS) and
  its State Rehabilitation Council (SRC) will be conducting public forums d
 uring the month of March. DVRS is a division within the Department of Labo
 r and Workforce Development and provides services to eligible individuals 
 with disabilities to achieve  employment outcomes consistent with their st
 rengths\, priorities\, needs\, abilities and capabilities. The SRC provide
 s oversight and advises the DVRS. The SRC is comprised of partnerships of 
 people with disabilities\, advocates and other interested persons\, and it
  is committed to ensuring through policy development\, implementation and 
 advocacy that New Jersey has a rehabilitation program that is not only com
 prehensive and consumer-responsive but also effective\, efficient and adeq
 uately funded. Your input during these forum(s) helps DVRS and SRC develop
  the State Plan as mandated by the WIOA\, and to review topical issues imp
 acting consumers\, vendor communications and dialogue with employers. Your
  voice is extremely important to both DVRS and SRC and will help to mold p
 rogram delivery and policy to ensure that people with disabilities receive
  rehabilitation services that result in employment.\n\nRepresentatives fro
 m DVRS and the SRC will be available to provide information on available s
 ervices\, and various work incentive initiatives.\n\nTopics: Youth Transit
 ion Services (Pre-ETS)\, Business Outreach\, Project Search\n\nWritten com
 ments: 1) Can be included with the registrant’s electronic registration or
  2) A hard copy provided to the DVRS/SRC representative or 3) Faxed to the
  attention of S. Walker-Hunt at 609 292.8347 indicating the DVRS/SRC publi
 c forum date and location. \n\nAccommodation: Request for accommodations m
 ust be done by registration deadline\n\nOnline Registration: You can regis
 ter on the Department of Labor and Workforce Development’s website (public
  forum section). Website link is below.
DTSTART;TZID=America/New_York:20180312T100000
DTEND;TZID=America/New_York:20180312T120000
LOCATION:“JVS (Jewish Vocational Service)\, 354 Eisenhower Parkway Plaza\, 
 1– Ste. 2150 Livingston\, NJ\, 07039
SUMMARY:New Jersey Division of Vocational Rehabilitation 2018 Public Forum 
 (Essex County)
END:VEVENT
END:VCALENDAR
