BEGIN:VCALENDAR
VERSION:2.0
PRODID:-//www.thearcfamilyinstitute.org//NONSGML kigkonsult.se iCalcreator 
 2.30.10//
CALSCALE:GREGORIAN
METHOD:PUBLISH
UID:2de120ee-bca6-43ff-b867-819358a9c4d6
X-WR-CALDESC:New Jersey Regional Family Support Planning Council is holding
  a Public Forum and Providers Fair with Guest Panelists\; Regional Family 
 Support Planning Council - Eileen Coyne\, Caregivers of NJ - Patty Kowalch
 uk\, Values into Action - Cherry Oakley\, Neighbours\, Inc.\n\nTake this o
 pportunity to speak with local Monmouth/Ocean County service providers tha
 t can help you and your family member with Intellectual/Developmental Disa
 bilities.
X-WR-RELCALID:aa58ad3b31132831773ba5845b466fbe
X-WR-TIMEZONE:America/New_York
BEGIN:VTIMEZONE
TZID:America/New_York
BEGIN:STANDARD
TZNAME:EST
DTSTART:20171105T020000
TZOFFSETFROM:-0400
TZOFFSETTO:-0500
RDATE:20181104T020000
END:STANDARD
BEGIN:DAYLIGHT
TZNAME:EDT
DTSTART:20170312T020000
TZOFFSETFROM:-0500
TZOFFSETTO:-0400
RDATE:20180311T020000
RDATE:20190310T020000
END:DAYLIGHT
END:VTIMEZONE
BEGIN:VEVENT
UID:af45232b-1e83-4f3d-9972-d58e3ecc4e06
DTSTAMP:20260423T191939Z
DESCRIPTION:New Jersey Regional Family Support Planning Council is holding 
 a Public Forum and Providers Fair with Guest Panelists\; Regional Family S
 upport Planning Council - Eileen Coyne\, Caregivers of NJ - Patty Kowalchu
 k\, Values into Action - Cherry Oakley\, Neighbours\, Inc.\n\nTake this op
 portunity to speak with local Monmouth/Ocean County service providers that
  can help you and your family member with Intellectual/Developmental Disab
 ilities.
DTSTART;TZID=America/New_York:20180308T190000
DTEND;TZID=America/New_York:20180308T210000
LOCATION:Children's Center of Monmouth County\, 1115 Green Grove Road\, Nep
 tune\, 07753
SUMMARY:Monmouth County: Public Forum and Providers Fair
END:VEVENT
END:VCALENDAR
