BEGIN:VCALENDAR
VERSION:2.0
PRODID:-//www.thearcfamilyinstitute.org//NONSGML kigkonsult.se iCalcreator 
 2.30.10//
CALSCALE:GREGORIAN
METHOD:PUBLISH
UID:9e4ae229-e2ee-452f-b5ae-b9f7804c8bb7
X-WR-CALDESC:Sexual education encompasses many aspects of life\, such as an
 atomy\, health\, personal hygiene\, reproduction\, relationships\, and the
  expression of love. Sex education is needed by all human beings including
  youth with intellectual and developmental disabilities. Excluding youth w
 ith intellectual and developmental disabilities from this important conver
 sation can leave this population vulnerable to abuse.\n\nThis workshop wil
 l discuss:\nWhy educating youth with intellectual and developmental disabi
 lities is so\nimportant.\nBarriers families face in discussing sexuality.
 \nSolutions to those barriers\, and how disability may affect sexuality.
X-WR-RELCALID:c1dc3a8b4367ad3ddf136da5671f213a
X-WR-TIMEZONE:America/New_York
BEGIN:VTIMEZONE
TZID:America/New_York
BEGIN:STANDARD
TZNAME:EST
DTSTART:20171105T020000
TZOFFSETFROM:-0400
TZOFFSETTO:-0500
RDATE:20181104T020000
END:STANDARD
BEGIN:DAYLIGHT
TZNAME:EDT
DTSTART:20170312T020000
TZOFFSETFROM:-0500
TZOFFSETTO:-0400
RDATE:20180311T020000
RDATE:20190310T020000
END:DAYLIGHT
END:VTIMEZONE
BEGIN:VEVENT
UID:7c9d04e4-abaa-4da5-bf9f-cb1dfbcc491a
DTSTAMP:20260423T192118Z
DESCRIPTION:Sexual education encompasses many aspects of life\, such as ana
 tomy\, health\, personal hygiene\, reproduction\, relationships\, and the 
 expression of love. Sex education is needed by all human beings including 
 youth with intellectual and developmental disabilities. Excluding youth wi
 th intellectual and developmental disabilities from this important convers
 ation can leave this population vulnerable to abuse.\n\nThis workshop will
  discuss:\nWhy educating youth with intellectual and developmental disabil
 ities is so\nimportant.\nBarriers families face in discussing sexuality.\n
 Solutions to those barriers\, and how disability may affect sexuality.
DTSTART;TZID=America/New_York:20180306T180000
DTEND;TZID=America/New_York:20180306T200000
LOCATION:EmPoWER Family Success Center\, 34 West Main Street\, Suite 201\, 
 Somerville\, NJ 08876
SUMMARY:Free Workshop: Understanding Sexuality in Youth with Intellectual a
 nd Developmental Disabilities: A Guide for Families
END:VEVENT
END:VCALENDAR
