BEGIN:VCALENDAR
VERSION:2.0
PRODID:-//www.thearcfamilyinstitute.org//NONSGML kigkonsult.se iCalcreator 
 2.30.10//
CALSCALE:GREGORIAN
METHOD:PUBLISH
UID:ddca0246-935c-4c79-b12a-5410370d3ccf
X-WR-CALDESC:Hosted by The Arc of New Jersey Family Institute and presented
  by Hinkle\, Fingles\, Prior & Fischer\, Attorneys at Law\, attendees will
  learn strategies and techniques to work with the Child Study Team to avoi
 d due process.
X-WR-RELCALID:e1c94c0a0690815883f6393ae9f4d3ef
X-WR-TIMEZONE:America/New_York
BEGIN:VTIMEZONE
TZID:America/New_York
BEGIN:STANDARD
TZNAME:EST
DTSTART:20171105T020000
TZOFFSETFROM:-0400
TZOFFSETTO:-0500
RDATE:20181104T020000
END:STANDARD
BEGIN:DAYLIGHT
TZNAME:EDT
DTSTART:20170312T020000
TZOFFSETFROM:-0500
TZOFFSETTO:-0400
RDATE:20180311T020000
RDATE:20190310T020000
END:DAYLIGHT
END:VTIMEZONE
BEGIN:VEVENT
UID:ab3e7289-85ab-4c59-b5dc-6a7500c9900b
DTSTAMP:20260423T191831Z
DESCRIPTION:Hosted by The Arc of New Jersey Family Institute and presented 
 by Hinkle\, Fingles\, Prior & Fischer\, Attorneys at Law\, attendees will 
 learn strategies and techniques to work with the Child Study Team to avoid
  due process.
DTSTART;TZID=America/New_York:20180306T180000
DTEND;TZID=America/New_York:20180306T190000
LOCATION:
SUMMARY:Free Webinar: Advocacy Strategies to Avoid Due Process
END:VEVENT
END:VCALENDAR
