BEGIN:VCALENDAR
VERSION:2.0
PRODID:-//www.thearcfamilyinstitute.org//NONSGML kigkonsult.se iCalcreator 
 2.30.10//
CALSCALE:GREGORIAN
METHOD:PUBLISH
UID:6cf419f9-5af8-42c3-8193-2cd0c77728d4
X-WR-CALDESC:Presenter: Jacqueline Dubil-Craig BCBA\n6 professional credits
X-WR-RELCALID:bc2bf8ee3c239ee4b8f464bcb8d7fd6e
X-WR-TIMEZONE:America/New_York
BEGIN:VTIMEZONE
TZID:America/New_York
BEGIN:STANDARD
TZNAME:EST
DTSTART:20171105T020000
TZOFFSETFROM:-0400
TZOFFSETTO:-0500
RDATE:20181104T020000
END:STANDARD
BEGIN:DAYLIGHT
TZNAME:EDT
DTSTART:20170312T020000
TZOFFSETFROM:-0500
TZOFFSETTO:-0400
RDATE:20180311T020000
RDATE:20190310T020000
END:DAYLIGHT
END:VTIMEZONE
BEGIN:VEVENT
UID:73a9ee1a-7dbb-4d38-826a-ba59ad8aeb97
DTSTAMP:20260423T191809Z
DESCRIPTION:Presenter: Jacqueline Dubil-Craig BCBA\n6 professional credits
DTSTART;TZID=America/New_York:20180302T090000
DTEND;TZID=America/New_York:20180302T150000
LOCATION:BCSS Educational Facility 2nd Floor Training Room 540 Farview Ave.
  Paramus NJ 07652
SUMMARY:The ABC's of ABA
END:VEVENT
END:VCALENDAR
