BEGIN:VCALENDAR
VERSION:2.0
PRODID:-//www.thearcfamilyinstitute.org//NONSGML kigkonsult.se iCalcreator 
 2.30.10//
CALSCALE:GREGORIAN
METHOD:PUBLISH
UID:90654a9a-8089-469c-8c6f-b354ee90c69f
X-WR-CALDESC:Daele Phlegar of SCARC will be presenting on the eligibility p
 rocess for both DCF and DDD and the services available to families once el
 igibility is determined.  This workshop will be held at the Family Success
  Center of the Family Support Organization of Morris/Sussex\, 73 Bassett H
 wy\, Dover\, NJ.
X-WR-RELCALID:bbafcebb5e1525ee6e066d543c3fe017
X-WR-TIMEZONE:America/New_York
BEGIN:VTIMEZONE
TZID:America/New_York
BEGIN:STANDARD
TZNAME:EST
DTSTART:20171105T020000
TZOFFSETFROM:-0400
TZOFFSETTO:-0500
RDATE:20181104T020000
END:STANDARD
BEGIN:DAYLIGHT
TZNAME:EDT
DTSTART:20170312T020000
TZOFFSETFROM:-0500
TZOFFSETTO:-0400
RDATE:20180311T020000
RDATE:20190310T020000
END:DAYLIGHT
END:VTIMEZONE
BEGIN:VEVENT
UID:147c4b75-976e-431b-8073-428567695e91
DTSTAMP:20260423T205452Z
DESCRIPTION:Daele Phlegar of SCARC will be presenting on the eligibility pr
 ocess for both DCF and DDD and the services available to families once eli
 gibility is determined.  This workshop will be held at the Family Success 
 Center of the Family Support Organization of Morris/Sussex\, 73 Bassett Hw
 y\, Dover\, NJ.
DTSTART;TZID=America/New_York:20180226T140000
DTEND;TZID=America/New_York:20180226T150000
LOCATION:Family Success Center 73 Bassett Hwy  Dover\, NJ 07801
SUMMARY:The Arc of Sussex (SCARC): Navigating DCF/DDD Eligibility Workshop
END:VEVENT
END:VCALENDAR
