BEGIN:VCALENDAR
VERSION:2.0
PRODID:-//www.thearcfamilyinstitute.org//NONSGML kigkonsult.se iCalcreator 
 2.30.10//
CALSCALE:GREGORIAN
METHOD:PUBLISH
UID:2a2a642a-9e89-4f1d-ba3f-5cc7a3d47001
X-WR-CALDESC:
X-WR-RELCALID:261214384cfb0624dc9ba993ccd708a4
X-WR-TIMEZONE:America/New_York
BEGIN:VTIMEZONE
TZID:America/New_York
BEGIN:STANDARD
TZNAME:EST
DTSTART:20171105T020000
TZOFFSETFROM:-0400
TZOFFSETTO:-0500
RDATE:20181104T020000
END:STANDARD
BEGIN:DAYLIGHT
TZNAME:EDT
DTSTART:20170312T020000
TZOFFSETFROM:-0500
TZOFFSETTO:-0400
RDATE:20180311T020000
RDATE:20190310T020000
END:DAYLIGHT
END:VTIMEZONE
BEGIN:VEVENT
UID:46c0589a-c3ba-46fb-99d9-4807646bd6a2
DTSTAMP:20260423T205509Z
DESCRIPTION:
DTSTART;TZID=America/New_York:20180214T180000
DTEND;TZID=America/New_York:20180214T193000
LOCATION:German American Club 215 Uncle Pete's Road Hamilton NJ
SUMMARY:Allies Community Music Night/Dance
END:VEVENT
END:VCALENDAR
