BEGIN:VCALENDAR
VERSION:2.0
PRODID:-//www.thearcfamilyinstitute.org//NONSGML kigkonsult.se iCalcreator 
 2.30.10//
CALSCALE:GREGORIAN
METHOD:PUBLISH
UID:a9d37180-a3b3-4a94-837a-133eda1441cb
X-WR-CALDESC:Special Education Parent Advisory Committee and Mount Laurel S
 pecial Services Presents: Special Needs Resource Fair
X-WR-RELCALID:6159d2bef6cd656f55994a2a9e56d3c6
X-WR-TIMEZONE:America/New_York
BEGIN:VTIMEZONE
TZID:America/New_York
BEGIN:STANDARD
TZNAME:EST
DTSTART:20171105T020000
TZOFFSETFROM:-0400
TZOFFSETTO:-0500
RDATE:20181104T020000
END:STANDARD
BEGIN:DAYLIGHT
TZNAME:EDT
DTSTART:20170312T020000
TZOFFSETFROM:-0500
TZOFFSETTO:-0400
RDATE:20180311T020000
RDATE:20190310T020000
END:DAYLIGHT
END:VTIMEZONE
BEGIN:VEVENT
UID:54c5f67f-0117-46c2-9995-9565dac121bb
DTSTAMP:20260423T205510Z
DESCRIPTION:Special Education Parent Advisory Committee and Mount Laurel Sp
 ecial Services Presents: Special Needs Resource Fair
DTSTART;TZID=America/New_York:20180213T183000
DTEND;TZID=America/New_York:20180213T210000
LOCATION:Larchmont Elementary School- 310 Larchmont Blvd. Mt. Laurel NJ
SUMMARY:Special Needs REsource Fair and Sensory Experience
END:VEVENT
END:VCALENDAR
