BEGIN:VCALENDAR
VERSION:2.0
PRODID:-//www.thearcfamilyinstitute.org//NONSGML kigkonsult.se iCalcreator 
 2.30.10//
CALSCALE:GREGORIAN
METHOD:PUBLISH
UID:947edc3d-bfa3-4a16-9251-a2b31229c076
X-WR-CALDESC:The Catastrophic Illness in Children Relief Fund is a financia
 l assistance program for New Jersey families whose children have an illnes
 s or \ncondition. For those eligible\, it reimburses families and guardian
 s for expenses incurred not otherwise covered by health insurance or State
  or Federal programs. \n\nThis webinar is hosted by The Arc of New Jersey 
 Family Institute and presented by Amy Taklif\, M.S.W\, L.S.W\, Medical Soc
 ial Work Consultant.
X-WR-RELCALID:8fcd1ec91aba3320ab2ec7f99ae6c5a4
X-WR-TIMEZONE:America/New_York
BEGIN:VTIMEZONE
TZID:America/New_York
BEGIN:STANDARD
TZNAME:EST
DTSTART:20171105T020000
TZOFFSETFROM:-0400
TZOFFSETTO:-0500
RDATE:20181104T020000
END:STANDARD
BEGIN:DAYLIGHT
TZNAME:EDT
DTSTART:20170312T020000
TZOFFSETFROM:-0500
TZOFFSETTO:-0400
RDATE:20180311T020000
RDATE:20190310T020000
END:DAYLIGHT
END:VTIMEZONE
BEGIN:VEVENT
UID:ab724fef-2c16-4f45-a439-63a3ec093baa
DTSTAMP:20260423T205042Z
DESCRIPTION:The Catastrophic Illness in Children Relief Fund is a financial
  assistance program for New Jersey families whose children have an illness
  or \ncondition. For those eligible\, it reimburses families and guardians
  for expenses incurred not otherwise covered by health insurance or State 
 or Federal programs. \n\nThis webinar is hosted by The Arc of New Jersey F
 amily Institute and presented by Amy Taklif\, M.S.W\, L.S.W\, Medical Soci
 al Work Consultant.
DTSTART;TZID=America/New_York:20180206T120000
DTEND;TZID=America/New_York:20180206T130000
LOCATION:
SUMMARY:Free Webinar: An overview of the  Catastrophic Illness in Children 
 Relief Fund
END:VEVENT
END:VCALENDAR
