BEGIN:VCALENDAR
VERSION:2.0
PRODID:-//www.thearcfamilyinstitute.org//NONSGML kigkonsult.se iCalcreator 
 2.30.10//
CALSCALE:GREGORIAN
METHOD:PUBLISH
UID:dc514920-0f87-4b95-863d-09c54f232296
X-WR-CALDESC:
X-WR-RELCALID:df2491458ee1ee5d324b08ae0b0df307
X-WR-TIMEZONE:America/New_York
BEGIN:VTIMEZONE
TZID:America/New_York
BEGIN:STANDARD
TZNAME:EST
DTSTART:20171105T020000
TZOFFSETFROM:-0400
TZOFFSETTO:-0500
RDATE:20181104T020000
END:STANDARD
BEGIN:DAYLIGHT
TZNAME:EDT
DTSTART:20170312T020000
TZOFFSETFROM:-0500
TZOFFSETTO:-0400
RDATE:20180311T020000
RDATE:20190310T020000
END:DAYLIGHT
END:VTIMEZONE
BEGIN:VEVENT
UID:5dc343d6-1452-438f-b635-29ab3415af50
DTSTAMP:20260423T222859Z
DESCRIPTION:
DTSTART;TZID=America/New_York:20180130T173000
DTEND;TZID=America/New_York:20180130T190000
LOCATION:
SUMMARY:New Social Skills Awareness Program for Adolescents with Autism Spe
 ctrum Disorder (ASD)
END:VEVENT
END:VCALENDAR
