BEGIN:VCALENDAR
VERSION:2.0
PRODID:-//www.thearcfamilyinstitute.org//NONSGML kigkonsult.se iCalcreator 
 2.30.10//
CALSCALE:GREGORIAN
METHOD:PUBLISH
UID:3951cabf-9f37-4a61-a890-6f68c25b7025
X-WR-CALDESC:Presenter: Jacqueline Dubil-Craig BCBA
X-WR-RELCALID:f3568cef179996b85e7637e1a357a8ff
X-WR-TIMEZONE:America/New_York
BEGIN:VTIMEZONE
TZID:America/New_York
BEGIN:STANDARD
TZNAME:EST
DTSTART:20171105T020000
TZOFFSETFROM:-0400
TZOFFSETTO:-0500
RDATE:20181104T020000
END:STANDARD
BEGIN:DAYLIGHT
TZNAME:EDT
DTSTART:20170312T020000
TZOFFSETFROM:-0500
TZOFFSETTO:-0400
RDATE:20180311T020000
RDATE:20190310T020000
END:DAYLIGHT
END:VTIMEZONE
BEGIN:VEVENT
UID:21c2fadb-7c41-48e5-a7ec-53647d71fdef
DTSTAMP:20260423T222808Z
DESCRIPTION:Presenter: Jacqueline Dubil-Craig BCBA
DTSTART;TZID=America/New_York:20180124T110000
DTEND;TZID=America/New_York:20180124T120000
LOCATION:BCSS Educational Facility 2nd Floor Training Room 540 Farview Ave.
  Paramus NJ 07652
SUMMARY:The ABC's of ABA Setting Your Students on the Path to Success
END:VEVENT
END:VCALENDAR
