BEGIN:VCALENDAR
VERSION:2.0
PRODID:-//www.thearcfamilyinstitute.org//NONSGML kigkonsult.se iCalcreator 
 2.30.10//
CALSCALE:GREGORIAN
METHOD:PUBLISH
UID:88b5875d-43dc-4fbb-9280-e8b773efa573
X-WR-CALDESC:\n\nThe Rowan University College Prep Transition is a daylong 
 conference offered to high school students with disabilities and their par
 ents. The goal of the conference is to provide students with knowledge and
  understanding of the transition process. We also hope to help parents and
  students learn about the differences between high school and college to a
 llow them to better prepare for those adjustments.\n\nSpecific workshops t
 hat will be held are:\n  *   living on campus versus commuting\n  *   how 
 college is different than high school\n  *   career readiness and planning
 \n  *   attending a two year versus a four year college\n  *   how to prep
 are to transition to college\n  *   parent to parent workshop\n  *   first
  hand experiences from current students and alumni\n50.00 Registration Fee
  and 60.00 if parents want to attend with their student. 15.00 each additi
 onal attendee
X-WR-RELCALID:9e3091606c1284b3db58117bfb1670b0
X-WR-TIMEZONE:America/New_York
BEGIN:VTIMEZONE
TZID:America/New_York
BEGIN:STANDARD
TZNAME:EST
DTSTART:20171105T020000
TZOFFSETFROM:-0400
TZOFFSETTO:-0500
RDATE:20181104T020000
END:STANDARD
BEGIN:DAYLIGHT
TZNAME:EDT
DTSTART:20170312T020000
TZOFFSETFROM:-0500
TZOFFSETTO:-0400
RDATE:20180311T020000
RDATE:20190310T020000
END:DAYLIGHT
END:VTIMEZONE
BEGIN:VEVENT
UID:b75e3378-b66b-43a0-859a-4d8d67fb6116
DTSTAMP:20260423T223306Z
DESCRIPTION:\n\nThe Rowan University College Prep Transition is a daylong c
 onference offered to high school students with disabilities and their pare
 nts. The goal of the conference is to provide students with knowledge and 
 understanding of the transition process. We also hope to help parents and 
 students learn about the differences between high school and college to al
 low them to better prepare for those adjustments.\n\nSpecific workshops th
 at will be held are:\n  *   living on campus versus commuting\n  *   how c
 ollege is different than high school\n  *   career readiness and planning
 \n  *   attending a two year versus a four year college\n  *   how to prep
 are to transition to college\n  *   parent to parent workshop\n  *   first
  hand experiences from current students and alumni\n50.00 Registration Fee
  and 60.00 if parents want to attend with their student. 15.00 each additi
 onal attendee
DTSTART;TZID=America/New_York:20180124T090000
DTEND;TZID=America/New_York:20180124T160000
LOCATION:Rowan University
SUMMARY:College Prep Transition Conference
END:VEVENT
END:VCALENDAR
