BEGIN:VCALENDAR
VERSION:2.0
PRODID:-//www.thearcfamilyinstitute.org//NONSGML kigkonsult.se iCalcreator 
 2.30.10//
CALSCALE:GREGORIAN
METHOD:PUBLISH
UID:4ce73a6e-7ad6-4af4-9663-6af3030379e5
X-WR-CALDESC:Join The Arc of New Jersey's Planning for Adult Life Program f
 or free monthly webinars on topics important to your child's transition to
  adult life.
X-WR-RELCALID:c2fde0e243aa8dd6bb2f01a3cc268783
X-WR-TIMEZONE:America/New_York
BEGIN:VTIMEZONE
TZID:America/New_York
BEGIN:STANDARD
TZNAME:EST
DTSTART:20171105T020000
TZOFFSETFROM:-0400
TZOFFSETTO:-0500
RDATE:20181104T020000
END:STANDARD
BEGIN:DAYLIGHT
TZNAME:EDT
DTSTART:20170312T020000
TZOFFSETFROM:-0500
TZOFFSETTO:-0400
RDATE:20180311T020000
RDATE:20190310T020000
END:DAYLIGHT
END:VTIMEZONE
BEGIN:VEVENT
UID:e82a6737-9154-4c68-9749-6bb2a6783458
DTSTAMP:20260423T223015Z
DESCRIPTION:Join The Arc of New Jersey's Planning for Adult Life Program fo
 r free monthly webinars on topics important to your child's transition to 
 adult life.
DTSTART;TZID=America/New_York:20180117T180000
DTEND;TZID=America/New_York:20180117T190000
LOCATION:
SUMMARY:Free Webinar: Planning for Adult Life Webinar Wednesdays
END:VEVENT
END:VCALENDAR
