BEGIN:VCALENDAR
VERSION:2.0
PRODID:-//www.thearcfamilyinstitute.org//NONSGML kigkonsult.se iCalcreator 
 2.30.10//
CALSCALE:GREGORIAN
METHOD:PUBLISH
UID:f3a56d4a-206e-463d-8c28-548a8da80a90
X-WR-CALDESC:
X-WR-RELCALID:4dc67c2868e38a96065e6694dce68a9b
X-WR-TIMEZONE:America/New_York
BEGIN:VTIMEZONE
TZID:America/New_York
BEGIN:STANDARD
TZNAME:EST
DTSTART:20171105T020000
TZOFFSETFROM:-0400
TZOFFSETTO:-0500
RDATE:20181104T020000
END:STANDARD
BEGIN:DAYLIGHT
TZNAME:EDT
DTSTART:20170312T020000
TZOFFSETFROM:-0500
TZOFFSETTO:-0400
RDATE:20180311T020000
RDATE:20190310T020000
END:DAYLIGHT
END:VTIMEZONE
BEGIN:VEVENT
UID:7c9c113f-af85-46f9-8adb-e77ae475520c
DTSTAMP:20260423T223137Z
DESCRIPTION:
DTSTART;TZID=America/New_York:20180116T173000
DTEND;TZID=America/New_York:20180116T190000
LOCATION:
SUMMARY:New Social Skills Awareness Program for Adolescents with Autism Spe
 ctrum Disorder (ASD)
END:VEVENT
END:VCALENDAR
