BEGIN:VCALENDAR
VERSION:2.0
PRODID:-//www.thearcfamilyinstitute.org//NONSGML kigkonsult.se iCalcreator 
 2.30.10//
CALSCALE:GREGORIAN
METHOD:PUBLISH
UID:3afcd9db-c631-41ec-8ca3-39478856f918
X-WR-CALDESC:An Early Intervention evaluation may be the first step to find
  out about a child’s developmental strengths and needs – whether the child
  is losing previously acquired skills or just does not seem to be progress
 ing in his/her development. \n\nHosted by The Arc of New Jersey Family Ins
 titute and presented by Hinkle\, Fingles\, Prior & Fischer\, Attorneys at 
 Law\, attendees will learn eligibility requirements\, what children and th
 eir families are entitled to and how to prepare for transition from Early 
 Intervention services.
X-WR-RELCALID:58528acc4603617b2c991a785efa61e4
X-WR-TIMEZONE:America/New_York
BEGIN:VTIMEZONE
TZID:America/New_York
BEGIN:STANDARD
TZNAME:EST
DTSTART:20171105T020000
TZOFFSETFROM:-0400
TZOFFSETTO:-0500
RDATE:20181104T020000
END:STANDARD
BEGIN:DAYLIGHT
TZNAME:EDT
DTSTART:20170312T020000
TZOFFSETFROM:-0500
TZOFFSETTO:-0400
RDATE:20180311T020000
RDATE:20190310T020000
END:DAYLIGHT
END:VTIMEZONE
BEGIN:VEVENT
UID:7d1513ae-6aca-4641-84ec-81eadf1f24bb
DTSTAMP:20260423T222510Z
DESCRIPTION:An Early Intervention evaluation may be the first step to find 
 out about a child’s developmental strengths and needs – whether the child 
 is losing previously acquired skills or just does not seem to be progressi
 ng in his/her development. \n\nHosted by The Arc of New Jersey Family Inst
 itute and presented by Hinkle\, Fingles\, Prior & Fischer\, Attorneys at L
 aw\, attendees will learn eligibility requirements\, what children and the
 ir families are entitled to and how to prepare for transition from Early I
 ntervention services.
DTSTART;TZID=America/New_York:20180109T180000
DTEND;TZID=America/New_York:20180109T190000
LOCATION:
SUMMARY:Free Webinar: Early Intervention and  Preschool Services
END:VEVENT
END:VCALENDAR
