BEGIN:VCALENDAR
VERSION:2.0
PRODID:-//www.thearcfamilyinstitute.org//NONSGML kigkonsult.se iCalcreator 
 2.30.10//
CALSCALE:GREGORIAN
METHOD:PUBLISH
UID:aa4df805-bbe8-4e4c-86b3-3adcaa667a75
X-WR-CALDESC:
X-WR-RELCALID:e8e7762502ff4b69bd3f3fd578ab8383
X-WR-TIMEZONE:America/New_York
BEGIN:VTIMEZONE
TZID:America/New_York
BEGIN:STANDARD
TZNAME:EST
DTSTART:20171105T020000
TZOFFSETFROM:-0400
TZOFFSETTO:-0500
RDATE:20181104T020000
END:STANDARD
BEGIN:DAYLIGHT
TZNAME:EDT
DTSTART:20170312T020000
TZOFFSETFROM:-0500
TZOFFSETTO:-0400
RDATE:20180311T020000
RDATE:20190310T020000
END:DAYLIGHT
END:VTIMEZONE
BEGIN:VEVENT
UID:203abb59-40a5-4b34-9405-1e65159d483d
DTSTAMP:20260423T222959Z
DESCRIPTION:
DTSTART;TZID=America/New_York:20180109T173000
DTEND;TZID=America/New_York:20180109T190000
LOCATION:
SUMMARY:New Social Skills Awareness Program for Adolescents with Autism Spe
 ctrum Disorder (ASD)
END:VEVENT
END:VCALENDAR
