BEGIN:VCALENDAR
VERSION:2.0
PRODID:-//www.thearcfamilyinstitute.org//NONSGML kigkonsult.se iCalcreator 
 2.30.10//
CALSCALE:GREGORIAN
METHOD:PUBLISH
UID:f479f5c0-8e68-4341-a6b6-757dc89f149c
X-WR-CALDESC:This conference will feature an interdisciplinary team of pres
 enters who will discuss a variety of topics including:\n\nThe missing educ
 ational opportunities individuals with ASD/DD face\, how this can lead to 
 increased risk of “inappropriate' sexual behaviors\, and strategies to sup
 port appropriate sexual behavior\n\nLegal approaches to incorporate these 
 educational opportunities and strategies into IEPs\, 504 Plans\, ISPs\, an
 d IHPs\n\nRisk factors that make people with ASD/DD particularly vulnerabl
 e to sexual violence\, victimization\, criminalization\, and ways to suppo
 rt survivors\n\nThe personal perspective of a woman with autism: becoming 
 empowered to navigate relationships and avoid victimization\nBreakfast and
  Lunch Included
X-WR-RELCALID:c738209ffde72002b319305f48e016a6
X-WR-TIMEZONE:America/New_York
BEGIN:VTIMEZONE
TZID:America/New_York
BEGIN:STANDARD
TZNAME:EST
DTSTART:20171105T020000
TZOFFSETFROM:-0400
TZOFFSETTO:-0500
RDATE:20181104T020000
END:STANDARD
BEGIN:DAYLIGHT
TZNAME:EDT
DTSTART:20170312T020000
TZOFFSETFROM:-0500
TZOFFSETTO:-0400
RDATE:20180311T020000
RDATE:20190310T020000
END:DAYLIGHT
END:VTIMEZONE
BEGIN:VEVENT
UID:a42c4c01-9b5c-475a-b530-6a815b82030a
DTSTAMP:20260423T222838Z
DESCRIPTION:This conference will feature an interdisciplinary team of prese
 nters who will discuss a variety of topics including:\n\nThe missing educa
 tional opportunities individuals with ASD/DD face\, how this can lead to i
 ncreased risk of “inappropriate' sexual behaviors\, and strategies to supp
 ort appropriate sexual behavior\n\nLegal approaches to incorporate these e
 ducational opportunities and strategies into IEPs\, 504 Plans\, ISPs\, and
  IHPs\n\nRisk factors that make people with ASD/DD particularly vulnerable
  to sexual violence\, victimization\, criminalization\, and ways to suppor
 t survivors\n\nThe personal perspective of a woman with autism: becoming e
 mpowered to navigate relationships and avoid victimization\nBreakfast and 
 Lunch Included
DTSTART;TZID=America/New_York:20180104T080000
DTEND;TZID=America/New_York:20180104T160000
LOCATION:Montclair University\, 1 Normal Avenue\, Montclair\, NJ
SUMMARY:Conference for Professionals\, Caregivers\, and Self-Advocates: Aut
 ism Sexuality Education – Navigating Relationships\, Avoiding Victimizatio
 n\, and Becoming Empowered
END:VEVENT
END:VCALENDAR
