BEGIN:VCALENDAR
VERSION:2.0
PRODID:-//www.thearcfamilyinstitute.org//NONSGML kigkonsult.se iCalcreator 
 2.30.10//
CALSCALE:GREGORIAN
METHOD:PUBLISH
UID:4aad4ae2-cc9f-4a5b-9a56-7e99abcbcb7a
X-WR-CALDESC:
X-WR-RELCALID:231d264956af6a8422a1a6d32371c679
X-WR-TIMEZONE:America/New_York
BEGIN:VTIMEZONE
TZID:America/New_York
BEGIN:STANDARD
TZNAME:EST
DTSTART:20171105T020000
TZOFFSETFROM:-0400
TZOFFSETTO:-0500
RDATE:20181104T020000
END:STANDARD
BEGIN:DAYLIGHT
TZNAME:EDT
DTSTART:20170312T020000
TZOFFSETFROM:-0500
TZOFFSETTO:-0400
RDATE:20180311T020000
RDATE:20190310T020000
END:DAYLIGHT
END:VTIMEZONE
BEGIN:VEVENT
UID:47e50beb-9ce4-40f2-bde1-f720fbaa08f1
DTSTAMP:20260423T222858Z
DESCRIPTION:
DTSTART;TZID=America/New_York:20180102T173000
DTEND;TZID=America/New_York:20180102T190000
LOCATION:
SUMMARY:New Social Skills Awareness Program for Adolescents with Autism Spe
 ctrum Disorder (ASD)
END:VEVENT
END:VCALENDAR
