BEGIN:VCALENDAR
VERSION:2.0
PRODID:-//www.thearcfamilyinstitute.org//NONSGML kigkonsult.se iCalcreator 
 2.30.10//
CALSCALE:GREGORIAN
METHOD:PUBLISH
UID:b7a604a0-e737-4841-9338-a36a8e5919c4
X-WR-CALDESC:Join The Arc of New Jersey's Planning for Adult Life Program f
 or free monthly webinars on topics important to your child's transition to
  adult life.
X-WR-RELCALID:c06fbdd814591e0e278587c255d75156
X-WR-TIMEZONE:America/New_York
BEGIN:VTIMEZONE
TZID:America/New_York
BEGIN:STANDARD
TZNAME:EST
DTSTART:20171105T020000
TZOFFSETFROM:-0400
TZOFFSETTO:-0500
RDATE:20181104T020000
END:STANDARD
BEGIN:DAYLIGHT
TZNAME:EDT
DTSTART:20170312T020000
TZOFFSETFROM:-0500
TZOFFSETTO:-0400
RDATE:20180311T020000
RDATE:20190310T020000
END:DAYLIGHT
END:VTIMEZONE
BEGIN:VEVENT
UID:e935ae96-b5c8-4bc0-90a9-d2eac7532a88
DTSTAMP:20260424T002159Z
DESCRIPTION:Join The Arc of New Jersey's Planning for Adult Life Program fo
 r free monthly webinars on topics important to your child's transition to 
 adult life.
DTSTART;TZID=America/New_York:20171220T180000
DTEND;TZID=America/New_York:20171220T190000
LOCATION:
SUMMARY:Free Webinar: Planning for Adult Life Webinar Wednesdays
END:VEVENT
END:VCALENDAR
