BEGIN:VCALENDAR
VERSION:2.0
PRODID:-//www.thearcfamilyinstitute.org//NONSGML kigkonsult.se iCalcreator 
 2.30.10//
CALSCALE:GREGORIAN
METHOD:PUBLISH
UID:32c04b6f-3874-4930-a150-8aff8f8965d8
X-WR-CALDESC:
X-WR-RELCALID:e03b6761d3a7c3dde21895d46fd01bef
X-WR-TIMEZONE:America/New_York
BEGIN:VTIMEZONE
TZID:America/New_York
BEGIN:STANDARD
TZNAME:EST
DTSTART:20171105T020000
TZOFFSETFROM:-0400
TZOFFSETTO:-0500
RDATE:20181104T020000
END:STANDARD
BEGIN:DAYLIGHT
TZNAME:EDT
DTSTART:20170312T020000
TZOFFSETFROM:-0500
TZOFFSETTO:-0400
RDATE:20180311T020000
RDATE:20190310T020000
END:DAYLIGHT
END:VTIMEZONE
BEGIN:VEVENT
UID:3dda891f-2a43-4509-b468-78e0232e5214
DTSTAMP:20260424T001133Z
DESCRIPTION:
DTSTART;TZID=America/New_York:20171208T083000
DTEND;TZID=America/New_York:20171208T130000
LOCATION:
SUMMARY:Education Partnership meeting- Monmouth County
END:VEVENT
END:VCALENDAR
