BEGIN:VCALENDAR
VERSION:2.0
PRODID:-//www.thearcfamilyinstitute.org//NONSGML kigkonsult.se iCalcreator 
 2.30.10//
CALSCALE:GREGORIAN
METHOD:PUBLISH
UID:362e3225-5433-445e-b4a6-f822e4598a2a
X-WR-CALDESC:
X-WR-RELCALID:d652aa02152151b362196384c7850d58
X-WR-TIMEZONE:America/New_York
BEGIN:VTIMEZONE
TZID:America/New_York
BEGIN:STANDARD
TZNAME:EST
DTSTART:20171105T020000
TZOFFSETFROM:-0400
TZOFFSETTO:-0500
RDATE:20181104T020000
END:STANDARD
BEGIN:DAYLIGHT
TZNAME:EDT
DTSTART:20170312T020000
TZOFFSETFROM:-0500
TZOFFSETTO:-0400
RDATE:20180311T020000
RDATE:20190310T020000
END:DAYLIGHT
END:VTIMEZONE
BEGIN:VEVENT
UID:d2502034-9d5b-4956-8ea0-4dca877f293d
DTSTAMP:20260424T001107Z
DESCRIPTION:
DTSTART;TZID=America/New_York:20171207T180000
DTEND;TZID=America/New_York:20171207T200000
LOCATION:
SUMMARY:Parent Networking Event at Montgomery Academy
END:VEVENT
END:VCALENDAR
