BEGIN:VCALENDAR
VERSION:2.0
PRODID:-//www.thearcfamilyinstitute.org//NONSGML kigkonsult.se iCalcreator 
 2.30.10//
CALSCALE:GREGORIAN
METHOD:PUBLISH
UID:0aeb34d9-b7cb-4ab3-aaf9-119351515703
X-WR-CALDESC:ABLE Accounts are tax-advantaged savings accounts for individu
 als with disabilities. Millions of individuals with disabilities depend on
  a wide variety of public benefits for income\, health care\, food and hou
 sing assistance. Eligibility for these public benefits (SSI\, SNAP\, Medic
 aid) require reporting no more than $2\,000 in cash savings\, retirement f
 unds and other items of significant value.  \n\nHosted by The Arc of New J
 ersey Family Institute and presented by Robin Shaffert\, Senior Executive 
 of Individual and Family Supports at The Arc of the U.S.\, attendees will 
 learn eligibility requirements and how ABLE Accounts can help when plannin
 g for the future.\n
X-WR-RELCALID:341e3976f69562025de3c56ddc592f4d
X-WR-TIMEZONE:America/New_York
BEGIN:VTIMEZONE
TZID:America/New_York
BEGIN:STANDARD
TZNAME:EST
DTSTART:20171105T020000
TZOFFSETFROM:-0400
TZOFFSETTO:-0500
RDATE:20181104T020000
END:STANDARD
BEGIN:DAYLIGHT
TZNAME:EDT
DTSTART:20170312T020000
TZOFFSETFROM:-0500
TZOFFSETTO:-0400
RDATE:20180311T020000
RDATE:20190310T020000
END:DAYLIGHT
END:VTIMEZONE
BEGIN:VEVENT
UID:9d214ab2-3d50-44a6-be5d-33547e1edfcc
DTSTAMP:20260424T001425Z
DESCRIPTION:ABLE Accounts are tax-advantaged savings accounts for individua
 ls with disabilities. Millions of individuals with disabilities depend on 
 a wide variety of public benefits for income\, health care\, food and hous
 ing assistance. Eligibility for these public benefits (SSI\, SNAP\, Medica
 id) require reporting no more than $2\,000 in cash savings\, retirement fu
 nds and other items of significant value.  \n\nHosted by The Arc of New Je
 rsey Family Institute and presented by Robin Shaffert\, Senior Executive o
 f Individual and Family Supports at The Arc of the U.S.\, attendees will l
 earn eligibility requirements and how ABLE Accounts can help when planning
  for the future.\n
DTSTART;TZID=America/New_York:20171206T180000
DTEND;TZID=America/New_York:20171206T190000
LOCATION:
SUMMARY:Free Webinar: Achieving a Better Life  Experience Act of 2014 (ABLE
  Act)
END:VEVENT
END:VCALENDAR
