BEGIN:VCALENDAR
VERSION:2.0
PRODID:-//www.thearcfamilyinstitute.org//NONSGML kigkonsult.se iCalcreator 
 2.30.10//
CALSCALE:GREGORIAN
METHOD:PUBLISH
UID:0654b555-be0e-484f-8eb5-d63127c4fa70
X-WR-CALDESC:
X-WR-RELCALID:2f24011d74f7006956b7741aa23fe220
X-WR-TIMEZONE:America/New_York
BEGIN:VTIMEZONE
TZID:America/New_York
BEGIN:STANDARD
TZNAME:EST
DTSTART:20171105T020000
TZOFFSETFROM:-0400
TZOFFSETTO:-0500
RDATE:20181104T020000
END:STANDARD
BEGIN:DAYLIGHT
TZNAME:EDT
DTSTART:20170312T020000
TZOFFSETFROM:-0500
TZOFFSETTO:-0400
RDATE:20180311T020000
RDATE:20190310T020000
END:DAYLIGHT
END:VTIMEZONE
BEGIN:VEVENT
UID:073c83a1-509e-485c-afc8-38c64a1c45ee
DTSTAMP:20260424T001416Z
DESCRIPTION:
DTSTART;TZID=America/New_York:20171205T180000
DTEND;TZID=America/New_York:20171205T190000
LOCATION:
SUMMARY:Overcoming Anxiety
END:VEVENT
END:VCALENDAR
