BEGIN:VCALENDAR
VERSION:2.0
PRODID:-//www.thearcfamilyinstitute.org//NONSGML kigkonsult.se iCalcreator 
 2.30.10//
CALSCALE:GREGORIAN
METHOD:PUBLISH
UID:2ce25ef9-1664-4b1c-9ff7-bcaee97a24dc
X-WR-CALDESC:Calling all students with intellectual and developmental disab
 ilities and their families. \n\nJoin The Arc of New Jersey Family Institut
 e for a tour of Brookdale Community College and learn more about Kach(Keep
  Achieving at Brookdale). \n\nThe Arc of Monmouth has collaborated with Br
 ookdale Community College to address the needs of transitioning young adul
 ts with intellectual and developmental disabilities ages 18 – 26. Kach pro
 vides a variety of classroom and experiential learning at the college and 
 in the community.
X-WR-RELCALID:d7e57675a89f635bd55f253a62cd9213
X-WR-TIMEZONE:America/New_York
BEGIN:VTIMEZONE
TZID:America/New_York
BEGIN:STANDARD
TZNAME:EST
DTSTART:20171105T020000
TZOFFSETFROM:-0400
TZOFFSETTO:-0500
RDATE:20181104T020000
END:STANDARD
BEGIN:DAYLIGHT
TZNAME:EDT
DTSTART:20170312T020000
TZOFFSETFROM:-0500
TZOFFSETTO:-0400
RDATE:20180311T020000
RDATE:20190310T020000
END:DAYLIGHT
END:VTIMEZONE
BEGIN:VEVENT
UID:9bdbd7cc-07ca-47e0-badc-3ee0ad579214
DTSTAMP:20260424T001611Z
DESCRIPTION:Calling all students with intellectual and developmental disabi
 lities and their families. \n\nJoin The Arc of New Jersey Family Institute
  for a tour of Brookdale Community College and learn more about Kach(Keep 
 Achieving at Brookdale). \n\nThe Arc of Monmouth has collaborated with Bro
 okdale Community College to address the needs of transitioning young adult
 s with intellectual and developmental disabilities ages 18 – 26. Kach prov
 ides a variety of classroom and experiential learning at the college and i
 n the community.
DTSTART;TZID=America/New_York:20171201T100000
DTEND;TZID=America/New_York:20171201T120000
LOCATION:Brookdale Community College\, 765 Newman Springs Road\, Lincroft\,
  NJ 07738
SUMMARY:Tour of Keep Achieving (Kach) at Brookdale
END:VEVENT
END:VCALENDAR
