BEGIN:VCALENDAR
VERSION:2.0
PRODID:-//www.thearcfamilyinstitute.org//NONSGML kigkonsult.se iCalcreator 
 2.30.10//
CALSCALE:GREGORIAN
METHOD:PUBLISH
UID:736cad14-a2a2-4b0d-ba97-1c86af560d5d
X-WR-CALDESC:
X-WR-RELCALID:ee7393dba485e05f5f4f16bb46388a89
X-WR-TIMEZONE:America/New_York
BEGIN:VTIMEZONE
TZID:America/New_York
BEGIN:STANDARD
TZNAME:EST
DTSTART:20171105T020000
TZOFFSETFROM:-0400
TZOFFSETTO:-0500
RDATE:20181104T020000
END:STANDARD
BEGIN:DAYLIGHT
TZNAME:EDT
DTSTART:20170312T020000
TZOFFSETFROM:-0500
TZOFFSETTO:-0400
RDATE:20180311T020000
RDATE:20190310T020000
END:DAYLIGHT
END:VTIMEZONE
BEGIN:VEVENT
UID:193ab497-4ad6-45df-8e69-bbf88a608664
DTSTAMP:20260424T013429Z
DESCRIPTION:
DTSTART;TZID=America/New_York:20171129T180000
DTEND;TZID=America/New_York:20171129T190000
LOCATION:
SUMMARY:Overcoming Anxiety
END:VEVENT
END:VCALENDAR
