BEGIN:VCALENDAR
VERSION:2.0
PRODID:-//www.thearcfamilyinstitute.org//NONSGML kigkonsult.se iCalcreator 
 2.30.10//
CALSCALE:GREGORIAN
METHOD:PUBLISH
UID:bde635c8-2135-41a1-8676-de43d788f4cb
X-WR-CALDESC:
X-WR-RELCALID:1501f9f4a5350765b22dfab1907141d2
X-WR-TIMEZONE:America/New_York
BEGIN:VTIMEZONE
TZID:America/New_York
BEGIN:STANDARD
TZNAME:EST
DTSTART:20171105T020000
TZOFFSETFROM:-0400
TZOFFSETTO:-0500
RDATE:20181104T020000
END:STANDARD
BEGIN:DAYLIGHT
TZNAME:EDT
DTSTART:20170312T020000
TZOFFSETFROM:-0500
TZOFFSETTO:-0400
RDATE:20180311T020000
RDATE:20190310T020000
END:DAYLIGHT
END:VTIMEZONE
BEGIN:VEVENT
UID:ab8707e7-37e1-4a30-abbb-fe4210be56fe
DTSTAMP:20260424T013622Z
DESCRIPTION:
DTSTART;TZID=America/New_York:20171127T180000
DTEND;TZID=America/New_York:20171127T190000
LOCATION:
SUMMARY:Overcoming Anxiety
END:VEVENT
END:VCALENDAR
