BEGIN:VCALENDAR
VERSION:2.0
PRODID:-//www.thearcfamilyinstitute.org//NONSGML kigkonsult.se iCalcreator 
 2.30.10//
CALSCALE:GREGORIAN
METHOD:PUBLISH
UID:4fd03f96-8817-4842-8242-d44b26c71f01
X-WR-CALDESC:
X-WR-RELCALID:c1ec52305631d671b5b3cce8dd7daad7
X-WR-TIMEZONE:America/New_York
BEGIN:VTIMEZONE
TZID:America/New_York
BEGIN:STANDARD
TZNAME:EST
DTSTART:20171105T020000
TZOFFSETFROM:-0400
TZOFFSETTO:-0500
RDATE:20181104T020000
END:STANDARD
BEGIN:DAYLIGHT
TZNAME:EDT
DTSTART:20170312T020000
TZOFFSETFROM:-0500
TZOFFSETTO:-0400
RDATE:20180311T020000
RDATE:20190310T020000
END:DAYLIGHT
END:VTIMEZONE
BEGIN:VEVENT
UID:130a4f19-be2a-463d-9eb6-304fd3bf3d62
DTSTAMP:20260424T013332Z
DESCRIPTION:
DTSTART;TZID=America/New_York:20171126T180000
DTEND;TZID=America/New_York:20171126T190000
LOCATION:
SUMMARY:Overcoming Anxiety
END:VEVENT
END:VCALENDAR
