BEGIN:VCALENDAR
VERSION:2.0
PRODID:-//www.thearcfamilyinstitute.org//NONSGML kigkonsult.se iCalcreator 
 2.30.10//
CALSCALE:GREGORIAN
METHOD:PUBLISH
UID:7e9584ca-a2f9-44e4-b490-9c9b9f8bdfcf
X-WR-CALDESC:
X-WR-RELCALID:296a333feca6d83ae31b9cefeff0b3b3
X-WR-TIMEZONE:America/New_York
BEGIN:VTIMEZONE
TZID:America/New_York
BEGIN:STANDARD
TZNAME:EST
DTSTART:20171105T020000
TZOFFSETFROM:-0400
TZOFFSETTO:-0500
RDATE:20181104T020000
END:STANDARD
BEGIN:DAYLIGHT
TZNAME:EDT
DTSTART:20170312T020000
TZOFFSETFROM:-0500
TZOFFSETTO:-0400
RDATE:20180311T020000
RDATE:20190310T020000
END:DAYLIGHT
END:VTIMEZONE
BEGIN:VEVENT
UID:84a3bdb9-a3b0-4a0a-a286-9655ad91db30
DTSTAMP:20260424T013353Z
DESCRIPTION:
DTSTART;TZID=America/New_York:20171125T180000
DTEND;TZID=America/New_York:20171125T190000
LOCATION:
SUMMARY:Overcoming Anxiety
END:VEVENT
END:VCALENDAR
