BEGIN:VCALENDAR
VERSION:2.0
PRODID:-//www.thearcfamilyinstitute.org//NONSGML kigkonsult.se iCalcreator 
 2.30.10//
CALSCALE:GREGORIAN
METHOD:PUBLISH
UID:7c8a9033-dcea-4f4c-8797-f33fd9df0c7e
X-WR-CALDESC:Join us as we discuss the importance of self advocacy and plan
 ning for adult life.
X-WR-RELCALID:b3ff831d38f73fdc5594ca943aff411e
X-WR-TIMEZONE:America/New_York
BEGIN:VTIMEZONE
TZID:America/New_York
BEGIN:STANDARD
TZNAME:EST
DTSTART:20171105T020000
TZOFFSETFROM:-0400
TZOFFSETTO:-0500
RDATE:20181104T020000
END:STANDARD
BEGIN:DAYLIGHT
TZNAME:EDT
DTSTART:20170312T020000
TZOFFSETFROM:-0500
TZOFFSETTO:-0400
RDATE:20180311T020000
RDATE:20190310T020000
END:DAYLIGHT
END:VTIMEZONE
BEGIN:VEVENT
UID:03ba619d-05c0-4d05-b16e-6dd2d6eb964f
DTSTAMP:20260424T013505Z
DESCRIPTION:Join us as we discuss the importance of self advocacy and plann
 ing for adult life.
DTSTART;TZID=America/New_York:20171121T120000
DTEND;TZID=America/New_York:20171121T130000
LOCATION:
SUMMARY:Webinar - Lunch & Learn: Promoting Self-Advocacy Among Individuals 
 with Intellectual and Developmental Disabilities'
END:VEVENT
END:VCALENDAR
