BEGIN:VCALENDAR
VERSION:2.0
PRODID:-//www.thearcfamilyinstitute.org//NONSGML kigkonsult.se iCalcreator 
 2.30.10//
CALSCALE:GREGORIAN
METHOD:PUBLISH
UID:858aabb9-71d0-4822-b3a6-b035e8db3f0b
X-WR-CALDESC:
X-WR-RELCALID:a73030e820bb14ddfa185ad2e6df8e78
X-WR-TIMEZONE:America/New_York
BEGIN:VTIMEZONE
TZID:America/New_York
BEGIN:STANDARD
TZNAME:EST
DTSTART:20171105T020000
TZOFFSETFROM:-0400
TZOFFSETTO:-0500
RDATE:20181104T020000
END:STANDARD
BEGIN:DAYLIGHT
TZNAME:EDT
DTSTART:20170312T020000
TZOFFSETFROM:-0500
TZOFFSETTO:-0400
RDATE:20180311T020000
RDATE:20190310T020000
END:DAYLIGHT
END:VTIMEZONE
BEGIN:VEVENT
UID:7e94422a-8a94-4cee-b100-b8d9f3a04dd7
DTSTAMP:20260424T013634Z
DESCRIPTION:
DTSTART;TZID=America/New_York:20171121T173000
DTEND;TZID=America/New_York:20171121T190000
LOCATION:
SUMMARY:New Social Skills Awareness Program for Adolescents with Autism Spe
 ctrum Disorder (ASD)
END:VEVENT
END:VCALENDAR
