BEGIN:VCALENDAR
VERSION:2.0
PRODID:-//www.thearcfamilyinstitute.org//NONSGML kigkonsult.se iCalcreator 
 2.30.10//
CALSCALE:GREGORIAN
METHOD:PUBLISH
UID:b35f8513-7385-469e-80d0-bfcc20b1abad
X-WR-CALDESC:
X-WR-RELCALID:0b5b67a9ae14fbb1514d2a206fc533d0
X-WR-TIMEZONE:America/New_York
BEGIN:VTIMEZONE
TZID:America/New_York
BEGIN:STANDARD
TZNAME:EST
DTSTART:20171105T020000
TZOFFSETFROM:-0400
TZOFFSETTO:-0500
RDATE:20181104T020000
END:STANDARD
BEGIN:DAYLIGHT
TZNAME:EDT
DTSTART:20170312T020000
TZOFFSETFROM:-0500
TZOFFSETTO:-0400
RDATE:20180311T020000
RDATE:20190310T020000
END:DAYLIGHT
END:VTIMEZONE
BEGIN:VEVENT
UID:1c81e348-daf8-405b-9ddb-138f9a073a3e
DTSTAMP:20260424T013534Z
DESCRIPTION:
DTSTART;TZID=America/New_York:20171115T180000
DTEND;TZID=America/New_York:20171115T200000
LOCATION:3111 Route 38\, Mount Laurel NJ 08054
SUMMARY:Sensitive Santa! We Rock The Spectrum Kids Gym
END:VEVENT
END:VCALENDAR
