BEGIN:VCALENDAR
VERSION:2.0
PRODID:-//www.thearcfamilyinstitute.org//NONSGML kigkonsult.se iCalcreator 
 2.30.10//
CALSCALE:GREGORIAN
METHOD:PUBLISH
UID:cf25ef4e-f4de-4397-a7ea-cf6489ea1bb0
X-WR-CALDESC:A grandparent’s support is invaluable to a family caring for a
  child with a disability. As the financial and legal issues facing the fam
 ily change over time\, grandparents can help bolster a long-term plan for 
 the grandchild’s care that will have long-lasting positive effects on an e
 ntire family. \n\nHosted by The Arc of New Jersey Family Institute and pre
 sented by Hinkle\, Fingles\, Prior & Fischer\, Attorneys at Law\, attendee
 s will learn how extended family can help plan financially for a loved one
 ’s future. \n
X-WR-RELCALID:d447976ee18b577e0bfa7990b8fb1d2f
X-WR-TIMEZONE:America/New_York
BEGIN:VTIMEZONE
TZID:America/New_York
BEGIN:STANDARD
TZNAME:EST
DTSTART:20171105T020000
TZOFFSETFROM:-0400
TZOFFSETTO:-0500
RDATE:20181104T020000
END:STANDARD
BEGIN:DAYLIGHT
TZNAME:EDT
DTSTART:20170312T020000
TZOFFSETFROM:-0500
TZOFFSETTO:-0400
RDATE:20180311T020000
RDATE:20190310T020000
END:DAYLIGHT
END:VTIMEZONE
BEGIN:VEVENT
UID:d533d838-a145-48f4-9ee7-7cff1da5b4d8
DTSTAMP:20260424T013531Z
DESCRIPTION:A grandparent’s support is invaluable to a family caring for a 
 child with a disability. As the financial and legal issues facing the fami
 ly change over time\, grandparents can help bolster a long-term plan for t
 he grandchild’s care that will have long-lasting positive effects on an en
 tire family. \n\nHosted by The Arc of New Jersey Family Institute and pres
 ented by Hinkle\, Fingles\, Prior & Fischer\, Attorneys at Law\, attendees
  will learn how extended family can help plan financially for a loved one’
 s future. \n
DTSTART;TZID=America/New_York:20171107T180000
DTEND;TZID=America/New_York:20171107T190000
LOCATION:
SUMMARY:Free Webinar - Grandparents: Planning For Your Grandchild with Disa
 bilities
END:VEVENT
END:VCALENDAR
