BEGIN:VCALENDAR
VERSION:2.0
PRODID:-//www.thearcfamilyinstitute.org//NONSGML kigkonsult.se iCalcreator 
 2.30.10//
CALSCALE:GREGORIAN
METHOD:PUBLISH
UID:cb75dad2-8c12-49c4-83ce-5eaaaf11f851
X-WR-CALDESC:ASPEN provides families and individuals whose lives are affect
 ed by Autism Spectrum Disorders (Asperger Syndrome\, Pervasive Development
 al Disorder-NOS\, High Functioning Autism)\, and Nonverbal Learning Disabi
 lities with:\n\nEducation about the issues surrounding the disorders.\n\nS
 upport in knowing that they are not alone\, and in helping individuals wit
 h ASD’s and NLD achieve their maximum potential.\n\nAdvocacy in areas of a
 ppropriate educational programs\, medical research funding\, adult issues 
 and increased public awareness and understanding.
X-WR-RELCALID:bceaab36261148f6f2448ac3002fcb90
X-WR-TIMEZONE:America/New_York
BEGIN:VTIMEZONE
TZID:America/New_York
BEGIN:STANDARD
TZNAME:EST
DTSTART:20161106T020000
TZOFFSETFROM:-0400
TZOFFSETTO:-0500
RDATE:20171105T020000
RDATE:20181104T020000
END:STANDARD
BEGIN:DAYLIGHT
TZNAME:EDT
DTSTART:20170312T020000
TZOFFSETFROM:-0500
TZOFFSETTO:-0400
RDATE:20180311T020000
RDATE:20190310T020000
END:DAYLIGHT
END:VTIMEZONE
BEGIN:VEVENT
UID:6c70aa69-fb2d-40e3-afa4-5ab139e64b98
DTSTAMP:20260424T024917Z
DESCRIPTION:ASPEN provides families and individuals whose lives are affecte
 d by Autism Spectrum Disorders (Asperger Syndrome\, Pervasive Developmenta
 l Disorder-NOS\, High Functioning Autism)\, and Nonverbal Learning Disabil
 ities with:\n\nEducation about the issues surrounding the disorders.\n\nSu
 pport in knowing that they are not alone\, and in helping individuals with
  ASD’s and NLD achieve their maximum potential.\n\nAdvocacy in areas of ap
 propriate educational programs\, medical research funding\, adult issues a
 nd increased public awareness and understanding.
DTSTART;TZID=America/New_York:20171029T080000
DTEND;TZID=America/New_York:20171029T163000
LOCATION:APA Hotel Woodbridge\, 120 Wood Avenue\, South Iselin\, NJ
SUMMARY:ASPEN’S Annual Fall Conference: Addressing Issues Across the Lifesp
 an
END:VEVENT
END:VCALENDAR
