BEGIN:VCALENDAR
VERSION:2.0
PRODID:-//www.thearcfamilyinstitute.org//NONSGML kigkonsult.se iCalcreator 
 2.30.10//
CALSCALE:GREGORIAN
METHOD:PUBLISH
UID:2a3b5e3d-7bcb-4a12-9ebd-1e35d2a69559
X-WR-CALDESC:
X-WR-RELCALID:d6fd70be7b65d784674ca7394d130e44
X-WR-TIMEZONE:America/New_York
BEGIN:VTIMEZONE
TZID:America/New_York
BEGIN:STANDARD
TZNAME:EST
DTSTART:20161106T020000
TZOFFSETFROM:-0400
TZOFFSETTO:-0500
RDATE:20171105T020000
RDATE:20181104T020000
END:STANDARD
BEGIN:DAYLIGHT
TZNAME:EDT
DTSTART:20170312T020000
TZOFFSETFROM:-0500
TZOFFSETTO:-0400
RDATE:20180311T020000
RDATE:20190310T020000
END:DAYLIGHT
END:VTIMEZONE
BEGIN:VEVENT
UID:d0eee89f-3ffa-4e12-a1e4-ac45576f45de
DTSTAMP:20260424T024720Z
DESCRIPTION:
DTSTART;TZID=America/New_York:20171025T130000
DTEND;TZID=America/New_York:20171025T140000
LOCATION:
SUMMARY:Free Webinar: Making the Connection & Maximizing the Results: Inter
 viewing People with Developmental Disabilities
END:VEVENT
END:VCALENDAR
