BEGIN:VCALENDAR
VERSION:2.0
PRODID:-//www.thearcfamilyinstitute.org//NONSGML kigkonsult.se iCalcreator 
 2.30.10//
CALSCALE:GREGORIAN
METHOD:PUBLISH
UID:514c8027-ee93-4cb1-b41e-d40e019d9bde
X-WR-CALDESC:
X-WR-RELCALID:a847c263b7c8b40384cc808c2abf1ef2
X-WR-TIMEZONE:America/New_York
BEGIN:VTIMEZONE
TZID:America/New_York
BEGIN:STANDARD
TZNAME:EST
DTSTART:20161106T020000
TZOFFSETFROM:-0400
TZOFFSETTO:-0500
RDATE:20171105T020000
RDATE:20181104T020000
END:STANDARD
BEGIN:DAYLIGHT
TZNAME:EDT
DTSTART:20170312T020000
TZOFFSETFROM:-0500
TZOFFSETTO:-0400
RDATE:20180311T020000
RDATE:20190310T020000
END:DAYLIGHT
END:VTIMEZONE
BEGIN:VEVENT
UID:a6585489-ac79-4fa7-9b55-22761722fa4a
DTSTAMP:20260424T025222Z
DESCRIPTION:
DTSTART;TZID=America/New_York:20171021T090000
DTEND;TZID=America/New_York:20171021T130000
LOCATION:
SUMMARY:Planning For Adult Life FREE Parent Forum and Opportunity Expo -  a
 t New Road School of Somerset
END:VEVENT
END:VCALENDAR
