BEGIN:VCALENDAR
VERSION:2.0
PRODID:-//www.thearcfamilyinstitute.org//NONSGML kigkonsult.se iCalcreator 
 2.30.10//
CALSCALE:GREGORIAN
METHOD:PUBLISH
UID:ff9ccecb-8b2f-42da-8163-2fefaed99513
X-WR-CALDESC:
X-WR-RELCALID:9d1408626a06e9e04e31226d7add217f
X-WR-TIMEZONE:America/New_York
BEGIN:VTIMEZONE
TZID:America/New_York
BEGIN:STANDARD
TZNAME:EST
DTSTART:20161106T020000
TZOFFSETFROM:-0400
TZOFFSETTO:-0500
RDATE:20171105T020000
RDATE:20181104T020000
END:STANDARD
BEGIN:DAYLIGHT
TZNAME:EDT
DTSTART:20170312T020000
TZOFFSETFROM:-0500
TZOFFSETTO:-0400
RDATE:20180311T020000
RDATE:20190310T020000
END:DAYLIGHT
END:VTIMEZONE
BEGIN:VEVENT
UID:5204c432-ad00-44de-9638-f501c5841c33
DTSTAMP:20260424T024923Z
DESCRIPTION:
DTSTART;TZID=America/New_York:20171019T180000
DTEND;TZID=America/New_York:20171019T210000
LOCATION:Arc Kohler School\, 1137 Globe Ave\, Mountainside\, NJ 07092
SUMMARY:Public Forum / Providers' Fair (Somerset & Union Counties)
END:VEVENT
END:VCALENDAR
