BEGIN:VCALENDAR
VERSION:2.0
PRODID:-//www.thearcfamilyinstitute.org//NONSGML kigkonsult.se iCalcreator 
 2.30.10//
CALSCALE:GREGORIAN
METHOD:PUBLISH
UID:158c827e-6926-4846-8642-5e0ffa9503fd
X-WR-CALDESC:Join The Arc of New Jersey's Planning for Adult Life Program f
 or free monthly webinars on topics important to your child's transition to
  adult life.
X-WR-RELCALID:003c0c2e06f69325906e974ba5b44315
X-WR-TIMEZONE:America/New_York
BEGIN:VTIMEZONE
TZID:America/New_York
BEGIN:STANDARD
TZNAME:EST
DTSTART:20161106T020000
TZOFFSETFROM:-0400
TZOFFSETTO:-0500
RDATE:20171105T020000
RDATE:20181104T020000
END:STANDARD
BEGIN:DAYLIGHT
TZNAME:EDT
DTSTART:20170312T020000
TZOFFSETFROM:-0500
TZOFFSETTO:-0400
RDATE:20180311T020000
RDATE:20190310T020000
END:DAYLIGHT
END:VTIMEZONE
BEGIN:VEVENT
UID:ca5910a5-feb6-4e96-8235-585e0e913b12
DTSTAMP:20260424T025155Z
DESCRIPTION:Join The Arc of New Jersey's Planning for Adult Life Program fo
 r free monthly webinars on topics important to your child's transition to 
 adult life.
DTSTART;TZID=America/New_York:20171018T180000
DTEND;TZID=America/New_York:20171018T190000
LOCATION:
SUMMARY:Free Webinar: Planning for Adult Life Webinar Wednesdays
END:VEVENT
END:VCALENDAR
