BEGIN:VCALENDAR
VERSION:2.0
PRODID:-//www.thearcfamilyinstitute.org//NONSGML kigkonsult.se iCalcreator 
 2.30.10//
CALSCALE:GREGORIAN
METHOD:PUBLISH
UID:bb66a6d6-4d22-4f64-a8b6-bcf53ed8be03
X-WR-CALDESC:Join us as we discuss state services for children under 21 and
  transition into the system of adult services for 21+. We will give an ove
 rview on the importance of SSI and Medicaid.
X-WR-RELCALID:9ddb75ba17f15543f62502895239c2ea
X-WR-TIMEZONE:America/New_York
BEGIN:VTIMEZONE
TZID:America/New_York
BEGIN:STANDARD
TZNAME:EST
DTSTART:20161106T020000
TZOFFSETFROM:-0400
TZOFFSETTO:-0500
RDATE:20171105T020000
RDATE:20181104T020000
END:STANDARD
BEGIN:DAYLIGHT
TZNAME:EDT
DTSTART:20170312T020000
TZOFFSETFROM:-0500
TZOFFSETTO:-0400
RDATE:20180311T020000
RDATE:20190310T020000
END:DAYLIGHT
END:VTIMEZONE
BEGIN:VEVENT
UID:51ea674f-a433-4fa0-8d23-e5c000eaae4c
DTSTAMP:20260424T024923Z
DESCRIPTION:Join us as we discuss state services for children under 21 and 
 transition into the system of adult services for 21+. We will give an over
 view on the importance of SSI and Medicaid.
DTSTART;TZID=America/New_York:20171017T120000
DTEND;TZID=America/New_York:20171017T130000
LOCATION:
SUMMARY:Free Webinar - Lunch & Learn: Navigating the System of State Servic
 es for Children 14-21
END:VEVENT
END:VCALENDAR
