BEGIN:VCALENDAR
VERSION:2.0
PRODID:-//www.thearcfamilyinstitute.org//NONSGML kigkonsult.se iCalcreator 
 2.30.10//
CALSCALE:GREGORIAN
METHOD:PUBLISH
UID:86ee458e-f847-4fb6-8960-4fbbdb15e0c6
X-WR-CALDESC:PRESENTERS\nBeverly Roberts\, The Arc of New Jersey\, Director
 \, Mainstreaming Medical Care This presentation will focus on the importan
 ce of Medicaid for both healthcare and DDD services\, and how to access Me
 dicaid services (including Personal Care Assistance and the Personal Prefe
 rence Program).  Additional topics will include: how to file a Medicaid ap
 peal\, the ability to maintain Medicaid eligibility while being employed a
 nd how a parent's retirement will affect their child's Social \nSecurity I
 ncome (SSI) and Medicaid benefits.  \n\nNkechi Ugoji\, Senior Coordinator\
 , Transition\, Policy & Training\, Division of \nDevelopmental Disabilitie
 s \nThis presentation will provide an update on DDD’s switch to a fee-for-
 service system\, enrollment of individuals on the Supports Program\, chang
 es to DDD housing policies and the Community Care Waiver Waiting List.
X-WR-RELCALID:9d44a8f9679426d387f705c5242fce6d
X-WR-TIMEZONE:America/New_York
BEGIN:VTIMEZONE
TZID:America/New_York
BEGIN:STANDARD
TZNAME:EST
DTSTART:20161106T020000
TZOFFSETFROM:-0400
TZOFFSETTO:-0500
RDATE:20171105T020000
RDATE:20181104T020000
END:STANDARD
BEGIN:DAYLIGHT
TZNAME:EDT
DTSTART:20170312T020000
TZOFFSETFROM:-0500
TZOFFSETTO:-0400
RDATE:20180311T020000
RDATE:20190310T020000
END:DAYLIGHT
END:VTIMEZONE
BEGIN:VEVENT
UID:472cd440-c0af-4412-9072-d4ac0f02d78c
DTSTAMP:20260424T024948Z
DESCRIPTION:PRESENTERS\nBeverly Roberts\, The Arc of New Jersey\, Director\
 , Mainstreaming Medical Care This presentation will focus on the importanc
 e of Medicaid for both healthcare and DDD services\, and how to access Med
 icaid services (including Personal Care Assistance and the Personal Prefer
 ence Program).  Additional topics will include: how to file a Medicaid app
 eal\, the ability to maintain Medicaid eligibility while being employed an
 d how a parent's retirement will affect their child's Social \nSecurity In
 come (SSI) and Medicaid benefits.  \n\nNkechi Ugoji\, Senior Coordinator\,
  Transition\, Policy & Training\, Division of \nDevelopmental Disabilities
  \nThis presentation will provide an update on DDD’s switch to a fee-for-s
 ervice system\, enrollment of individuals on the Supports Program\, change
 s to DDD housing policies and the Community Care Waiver Waiting List.
DTSTART;TZID=America/New_York:20171014T093000
DTEND;TZID=America/New_York:20171014T133000
LOCATION:NuView Academy Annex\, 1690 Stelton Rd\, Piscataway Township\, 088
 54
SUMMARY:Public Forum for Families of  Individuals with Developmental  Disab
 ilities (Middlesex)
END:VEVENT
END:VCALENDAR
