BEGIN:VCALENDAR
VERSION:2.0
PRODID:-//www.thearcfamilyinstitute.org//NONSGML kigkonsult.se iCalcreator 
 2.30.10//
CALSCALE:GREGORIAN
METHOD:PUBLISH
UID:c49301af-54a2-46cb-8463-01f212183a0a
X-WR-CALDESC:Panel Discussion on:\nTransition from High School to DDD Servi
 ces\nTransition to Fee For Service\n\nHousing\nGuest Speakers:\nNkechi Ugo
 ji\nSenior Coordinator\, Transition\, Policy\, & Training\nDivision of Dev
 elopmental Disabilities (DDD)\n\nMercedes Witowsky\nChairperson\, New Jers
 ey Family Support Planning Council\n\nDiane Riley\nExecutive Director\, Su
 pportive Housing Association of NJ
X-WR-RELCALID:491faeb851d40cab40841aed41ef39ef
X-WR-TIMEZONE:America/New_York
BEGIN:VTIMEZONE
TZID:America/New_York
BEGIN:STANDARD
TZNAME:EST
DTSTART:20161106T020000
TZOFFSETFROM:-0400
TZOFFSETTO:-0500
RDATE:20171105T020000
RDATE:20181104T020000
END:STANDARD
BEGIN:DAYLIGHT
TZNAME:EDT
DTSTART:20170312T020000
TZOFFSETFROM:-0500
TZOFFSETTO:-0400
RDATE:20180311T020000
RDATE:20190310T020000
END:DAYLIGHT
END:VTIMEZONE
BEGIN:VEVENT
UID:2b25b1bf-9454-4603-bd7c-57f326542b0e
DTSTAMP:20260424T025029Z
DESCRIPTION:Panel Discussion on:\nTransition from High School to DDD Servic
 es\nTransition to Fee For Service\n\nHousing\nGuest Speakers:\nNkechi Ugoj
 i\nSenior Coordinator\, Transition\, Policy\, & Training\nDivision of Deve
 lopmental Disabilities (DDD)\n\nMercedes Witowsky\nChairperson\, New Jerse
 y Family Support Planning Council\n\nDiane Riley\nExecutive Director\, Sup
 portive Housing Association of NJ
DTSTART;TZID=America/New_York:20171014T100000
DTEND;TZID=America/New_York:20171014T130000
LOCATION:Bergen County Community College\, 400 Paramus Road\, Paramus NJ 07
 652\, Follow signs to Technology Education Center 1 st Floor
SUMMARY:Public Forum and Provider Fair (Bergen\, Hudson\, and Passaic Count
 ies)
END:VEVENT
END:VCALENDAR
