BEGIN:VCALENDAR
VERSION:2.0
PRODID:-//www.thearcfamilyinstitute.org//NONSGML kigkonsult.se iCalcreator 
 2.30.10//
CALSCALE:GREGORIAN
METHOD:PUBLISH
UID:a25b34ab-8adf-4b09-8893-db38ec74c0a1
X-WR-CALDESC:Do you or someone you know have an adult family member with an
  intellectual or developmental disability? Do you need services\, but don’
 t know how to get them?\n\nARE YOU AWARE OF THE RECENT CHANGES IN NEW JERS
 EY’S DEVELOPMENTAL DISABILITIES SERVICE DELIVERY SYSTEM? ARE YOU INTERESTE
 D IN LEARNING MORE ABOUT THE CHANGES AFFECTING PEOPLE WITH DISABILITIES\n
 \nPlease join The Regional Family Support Planning Councils (RFSPC) #6 – M
 onmouth\, Ocean and our guest presenter: Mr. Joseph M. Amoroso Director NJ
  Division of Disabilities Services\n\nTake this opportunity to speak with 
 local Monmouth/Ocean County service providers that can help you and your f
 amily member with Intellectual/Developmental Disabilities
X-WR-RELCALID:cf247457fa10e05bc0b7620f45b0e443
X-WR-TIMEZONE:America/New_York
BEGIN:VTIMEZONE
TZID:America/New_York
BEGIN:STANDARD
TZNAME:EST
DTSTART:20161106T020000
TZOFFSETFROM:-0400
TZOFFSETTO:-0500
RDATE:20171105T020000
RDATE:20181104T020000
END:STANDARD
BEGIN:DAYLIGHT
TZNAME:EDT
DTSTART:20170312T020000
TZOFFSETFROM:-0500
TZOFFSETTO:-0400
RDATE:20180311T020000
RDATE:20190310T020000
END:DAYLIGHT
END:VTIMEZONE
BEGIN:VEVENT
UID:1d20d856-412f-464d-a54c-e4f2aeb29084
DTSTAMP:20260424T024806Z
DESCRIPTION:Do you or someone you know have an adult family member with an 
 intellectual or developmental disability? Do you need services\, but don’t
  know how to get them?\n\nARE YOU AWARE OF THE RECENT CHANGES IN NEW JERSE
 Y’S DEVELOPMENTAL DISABILITIES SERVICE DELIVERY SYSTEM? ARE YOU INTERESTED
  IN LEARNING MORE ABOUT THE CHANGES AFFECTING PEOPLE WITH DISABILITIES\n\n
 Please join The Regional Family Support Planning Councils (RFSPC) #6 – Mon
 mouth\, Ocean and our guest presenter: Mr. Joseph M. Amoroso Director NJ D
 ivision of Disabilities Services\n\nTake this opportunity to speak with lo
 cal Monmouth/Ocean County service providers that can help you and your fam
 ily member with Intellectual/Developmental Disabilities
DTSTART;TZID=America/New_York:20171012T190000
DTEND;TZID=America/New_York:20171012T213000
LOCATION:Barnegat Recreation Center\, 900 W Bay Ave\, Barnegat\, NJ 08005
SUMMARY:Public Forum & Provider Fair (Monmouth\, Ocean)
END:VEVENT
END:VCALENDAR
