BEGIN:VCALENDAR
VERSION:2.0
PRODID:-//www.thearcfamilyinstitute.org//NONSGML kigkonsult.se iCalcreator 
 2.30.10//
CALSCALE:GREGORIAN
METHOD:PUBLISH
UID:ae5b7e12-cf4e-4103-bb61-611680bb3cb8
X-WR-CALDESC:\nPlease join us and our guest presenter:\n\nMr. Joseph M. Amo
 roso \nDirector\nNJ Division of Disabilities Services\n\nAre you intereste
 d in learning more about the\nChanges Affecting People with Disabilities\n
 \nTake this opportunity to speak with local Monmouth/Ocean County service 
 providers that can help you and your family member with Intellectual/Devel
 opmental Disabilities\n
X-WR-RELCALID:7389b55275d59e658ba041841e0524c2
X-WR-TIMEZONE:America/New_York
BEGIN:VTIMEZONE
TZID:America/New_York
BEGIN:STANDARD
TZNAME:EST
DTSTART:20161106T020000
TZOFFSETFROM:-0400
TZOFFSETTO:-0500
RDATE:20171105T020000
RDATE:20181104T020000
END:STANDARD
BEGIN:DAYLIGHT
TZNAME:EDT
DTSTART:20170312T020000
TZOFFSETFROM:-0500
TZOFFSETTO:-0400
RDATE:20180311T020000
RDATE:20190310T020000
END:DAYLIGHT
END:VTIMEZONE
BEGIN:VEVENT
UID:aba5c21f-3bd8-4ed5-bf9a-4c9a0a14010e
DTSTAMP:20260424T024920Z
DESCRIPTION:\nPlease join us and our guest presenter:\n\nMr. Joseph M. Amor
 oso \nDirector\nNJ Division of Disabilities Services\n\nAre you interested
  in learning more about the\nChanges Affecting People with Disabilities\n
 \nTake this opportunity to speak with local Monmouth/Ocean County service 
 providers that can help you and your family member with Intellectual/Devel
 opmental Disabilities\n
DTSTART;TZID=America/New_York:20171012T190000
DTEND;TZID=America/New_York:20171012T213000
LOCATION:Barnegat Recreation Center\, 900 West Bay Avenue\, Barnegat\, NJ 0
 8005
SUMMARY:Public Forum and Providers Fair (Monmouth & Ocean County)
END:VEVENT
END:VCALENDAR
